BEGIN:VCALENDAR
VERSION:2.0
PRODID:-//The World Affairs Council of Greater Reading - ECPv6.15.20//NONSGML v1.0//EN
CALSCALE:GREGORIAN
METHOD:PUBLISH
X-WR-CALNAME:The World Affairs Council of Greater Reading
X-ORIGINAL-URL:https://wacreading.org
X-WR-CALDESC:Events for The World Affairs Council of Greater Reading
REFRESH-INTERVAL;VALUE=DURATION:PT1H
X-Robots-Tag:noindex
X-PUBLISHED-TTL:PT1H
BEGIN:VTIMEZONE
TZID:America/New_York
BEGIN:DAYLIGHT
TZOFFSETFROM:-0500
TZOFFSETTO:-0400
TZNAME:EDT
DTSTART:20170312T070000
END:DAYLIGHT
BEGIN:STANDARD
TZOFFSETFROM:-0400
TZOFFSETTO:-0500
TZNAME:EST
DTSTART:20171105T060000
END:STANDARD
BEGIN:DAYLIGHT
TZOFFSETFROM:-0500
TZOFFSETTO:-0400
TZNAME:EDT
DTSTART:20180311T070000
END:DAYLIGHT
BEGIN:STANDARD
TZOFFSETFROM:-0400
TZOFFSETTO:-0500
TZNAME:EST
DTSTART:20181104T060000
END:STANDARD
BEGIN:DAYLIGHT
TZOFFSETFROM:-0500
TZOFFSETTO:-0400
TZNAME:EDT
DTSTART:20190310T070000
END:DAYLIGHT
BEGIN:STANDARD
TZOFFSETFROM:-0400
TZOFFSETTO:-0500
TZNAME:EST
DTSTART:20191103T060000
END:STANDARD
BEGIN:DAYLIGHT
TZOFFSETFROM:-0500
TZOFFSETTO:-0400
TZNAME:EDT
DTSTART:20200308T070000
END:DAYLIGHT
BEGIN:STANDARD
TZOFFSETFROM:-0400
TZOFFSETTO:-0500
TZNAME:EST
DTSTART:20201101T060000
END:STANDARD
BEGIN:DAYLIGHT
TZOFFSETFROM:-0500
TZOFFSETTO:-0400
TZNAME:EDT
DTSTART:20210314T070000
END:DAYLIGHT
BEGIN:STANDARD
TZOFFSETFROM:-0400
TZOFFSETTO:-0500
TZNAME:EST
DTSTART:20211107T060000
END:STANDARD
END:VTIMEZONE
BEGIN:VEVENT
DTSTART;TZID=America/New_York:20200708T120000
DTEND;TZID=America/New_York:20200708T133000
DTSTAMP:20260423T180011
CREATED:20200603T175602Z
LAST-MODIFIED:20200703T125856Z
UID:6265-1594209600-1594215000@wacreading.org
SUMMARY:Recent Developments in the China/Hong Kong Relationship with Dr. Victoria Tin-bor Hui
DESCRIPTION:Faculty Fellow\, Liu Institute for Asia and Asian Studies\nFaculty Fellow\, The Kellogg Institute for International Studies\nFaculty Fellow\, The Kroc Institute for International Peace Studies\nFaculty Affiliate\, Center for Civil and Human Rights \nVictoria Tin-bor Hui received her Ph.D. in Political Science from Columbia University and her B.SSc. in Journalism from the Chinese University of Hong Kong. \nHui’s core research examines the centrality of war in the formation and transformation of “China” in the long span of history. She is the author of War and State Formation in Ancient China and Early Modern Europe (Cambridge University Press\, 2005). She has also published “Toward a Dynamic Theory of International Politics” in International Organization\, “Testing Balance of Power Theory in World History” in the European Journal of International Relations\, “The Emergence and Demise of Nascent Constitutional Rights” in The Journal of Political Philosophy\, “Building Castles in the Sand” in the Chinese Journal of International Politics\, “History and Thought in China’s Traditions” in the Journal of Chinese Political Science\, and book chapters “How Tilly’s Warfare Paradigm Is Revolutionizing the Study of Chinese State-Making\,” “Cultural Diversity and Coercive Cultural Homogenization in Chinese History\,” “The China Dream: Revival of What Historical Greatness?”\, “Confucian Pacifism or Confucian Confusion?”\, “The Triumph of Domination in the Ancient Chinese System” and “Problematizing Sovereignty.” \nHui also studies contentious politics. As a native from Hong Kong\, she has written “Will China Crush the Protests in Hong Kong? Why Beijing Doesn’t Need to Send in the Troops” in Foreign Affairs and “Hong Kong’s Umbrella Movement: The Protest and Beyond” in the Journal of Democracy. She also maintains a blog on Hong Kong https://victoriatbhui.wordpress.com. She has extensively commented on Hong Kong politics in the media including the Washington Post’s Monkey Cage\, ChinaFile\, ABC\, the BBC\, the New York Times\, the Guardian\, Bloomberg\, Sky News\, NPR\, Vox\, and the Christian Science Monitor. \nThis event starts at 12:00 PM on Wednesday\, July 8th. \n\n \n\n\nJoin us as we talk to Dr. Victoria Tin-bor Hui about the recent developments in the China/Hong Kong relationship. \nPosted by World Affairs Council Of Greater Reading on Friday\, July 3\, 2020 \n\nMembers are invited to join by Zoom and participate in the live Q&A. Zoom details will be emailed in our weekly email newsletter. If you are a member and have not received this email\, please send a message to contactus@wacreading.org.
URL:https://wacreading.org/event/recent-developments-in-the-china-hong-kong-relationship-with-dr-victoria-tin-bor-hui/
LOCATION:Virtual Event\, PA\, United States
CATEGORIES:Special Event
ATTACH;FMTTYPE=image/png:https://wacreading.org/wp-content/uploads/2020/06/Screen-Shot-2020-06-03-at-1.49.15-PM-e1600347262766.png
END:VEVENT
BEGIN:VEVENT
DTSTART;TZID=America/New_York:20200624T120000
DTEND;TZID=America/New_York:20200624T133000
DTSTAMP:20260423T180011
CREATED:20200527T191509Z
LAST-MODIFIED:20200618T132229Z
UID:6254-1593000000-1593005400@wacreading.org
SUMMARY:Russia and the 2020 Elections-what is Putin's game plan? with Christopher Miller
DESCRIPTION:Chris Miller is assistant professor of international history at The Fletcher School of Law and Diplomacy and co-director of the school’s Russia and Eurasia Program. He is author of  Putinomics: Power and Money in Resurgent Russia (2018) and The Struggle to Save the Soviet Economy (2016).  \nHe has previously served as the associate director of the Brady-Johnson Program in Grand Strategy at Yale\, a lecturer at the New Economic School in Moscow\, a visiting researcher at the Carnegie Moscow Center\, a research associate at the Brookings Institution\, and as a fellow at the German Marshall Fund’s Transatlantic Academy. He received his Ph.D. and M.A. from Yale University and his B.A. in history from Harvard University. \nARTICLES\n“The Bureaucratic Bourgeoisie: How the Soviet Union Lost Faith in State-led Economic Development\,” History of Political Economy (2019)\n“Georgii Mirskii and Soviet Theories of Authoritarian Modernization\,” International History Review (2017)\n“Economic Take-Off or Great Leap Forward: Soviet Assessments of Chinese Economic Reforms during Perestroika\,” Soviet and Post-Soviet Review (2016)\n“Gorbachev’s Agricultural Reforms and the Politics of Perestroika\,” Kritika: Explorations in Russian and Eurasian History (2016) \nBOOKS\n“Putinomics: Power and Money in Resurgent Russia\,” The University of North Carolina Press\, 2018.\n“The Struggle to Save the Soviet Economy: Mikhail Gorbachev and the Collapse of the USSR\,” The University of North Carolina Press\, 2016 \n\nThis event starts at 12:00 PM on Wednesday\, June 24th. \nMembers are invited to join by Zoom and participate in the live Q&A. Zoom details will be emailed in our weekly email newsletter. If you are a member and have not received this email\, please send a message to contactus@wacreading.org. \nJoin via www.wacreading.org/live \nhttps://www.facebook.com/wacreading/posts/4025445150830404 \nPlease join a few minutes early so you don’t miss anything
URL:https://wacreading.org/event/putins-russia-with-christopher-miller/
LOCATION:PA\, United States
CATEGORIES:Special Event
ATTACH;FMTTYPE=image/jpeg:https://wacreading.org/wp-content/uploads/2020/05/chris_miller_0.jpg
END:VEVENT
BEGIN:VEVENT
DTSTART;TZID=America/New_York:20200617T120000
DTEND;TZID=America/New_York:20200617T133000
DTSTAMP:20260423T180011
CREATED:20200501T152026Z
LAST-MODIFIED:20200611T190853Z
UID:6155-1592395200-1592400600@wacreading.org
SUMMARY:Artificial Intelligence and Data with Abdullah Konak
DESCRIPTION:Abdullah Konak is a Professor of Information Sciences and Technology at the Pennsylvania State University\, Berks.  Dr. Konak received his degrees in Industrial Engineering\, B.S. from Yildiz Technical University\, Turkey\, M.S. from Bradley University\, and Ph.D. from the University of Pittsburgh. Prior to his current position\, he taught at Auburn University.  Dr. Konak also held visiting positions at Lehigh University\, Cornell University\, and the Chinese University of Hong Kong. \n  \nDr. Konak’s primary research interest is in the modeling\, analysis\, and optimization of complex systems using computational intelligence combined with techniques from probability and statistics and from Operations Research.  He has studied a broad range of topics including network design\, reliable system design\, cybersecurity\, facilities design\, green logistics\, production management\, and data sciences.  Dr. Konak has published papers in leading journals such as Operations Research Letters\, Informs Journal on Computing\, Europan Journal of Operations Research\, Computers and Operations Research\, IIE Transactions\, IEEE Transactions on Reliability\, International Journal of Production Research\, and Production Economics.  He has been a principal investigator in sponsored projects from the National Science Foundation\, the National Security Agency\, the US Department of Labor\, and Venture Well. \nDr. Konak currently teaches courses on Database Management Systems\, Cybersecurity\, Agent Based Modelling\, and Entrepreneurship. He is a member of INFORMS and IEEE. \nThis event starts at 12:00 PM on Wednesday\, June 17th. \nMembers are invited to join by Zoom and participate in the live Q&A. Zoom details will be emailed in our weekly email newsletter. If you are a member and have not received this email\, please send a message to contactus@wacreading.org. \nJoin via www.wacreading.org/live \nhttps://www.facebook.com/wacreading/posts/3997391866969066 \nPlease join a few minutes early so you don’t miss anything!
URL:https://wacreading.org/event/artificial-intelligence-and-data-with-abdullah-konak/
LOCATION:PA\, United States
CATEGORIES:Special Event
ATTACH;FMTTYPE=image/jpeg:https://wacreading.org/wp-content/uploads/2020/05/citations.jpeg
END:VEVENT
BEGIN:VEVENT
DTSTART;TZID=America/New_York:20200603T190000
DTEND;TZID=America/New_York:20200603T203000
DTSTAMP:20260423T180011
CREATED:20200501T163005Z
LAST-MODIFIED:20200531T155053Z
UID:6169-1591210800-1591216200@wacreading.org
SUMMARY:Red Sea Security with Dr. Randall Fegley
DESCRIPTION:A political historian at Penn State Berks College\, Randall Fegley teaches courses in African\, European and Middle Eastern history\, ethnic conflict in Africa and international law. Joining the Penn State system in 1988\, he specializes in the study of mass trauma\, especially long-term conflicts\, gross human rights violations and prolonged disasters in Rwanda\, Equatorial Guinea\, Uganda\, South Sudan and Sudan. He lived\, taught and completed Ph.D. research in Sudan from 1980 to 1984 and has returned to work there and in other African countries numerous times. In November 2003\, he received Penn State Berks’ Beaver Community Service Award for restoring schools in war-torn Kajo Keji County as part of a program of the Episcopal Diocese of Bethlehem. He has been particularly active in the Sudan Studies Association\, the leading scholarly organization on Sudan. Host of the SSA’s 22nd annual conference in May 2002 and a member of the association’s board from 2003 to 2007\, he has also served as the organization’s president and executive director. As the coordinator of Penn State’s four-year degree program in Global Studies\, he set up internship programs in Rwanda and India. His published works have examined Rwandan\, Sudanese\, Belgian and Equatorial Guinean political history\, genocide\, the mythologies that perpetuate conflicts\, elections and governance in post-trauma societies; and the rehabilitation of former slaves and child soldiers. \n  \nThis event starts at 7:00 PM on Wednesday\, June 3rd. \nMembers are invited to join by Zoom and participate in the live Q&A. Zoom details will be emailed in our weekly email newsletter. If you are a member and have not received this email\, please send a message to contactus@wacreading.org. \nPlease join a few minutes early so you don’t miss anything! \nhttps://www.facebook.com/wacreading/posts/3951727394868847 \n 
URL:https://wacreading.org/event/red-sea-security-with-dr-randall-fegley/
LOCATION:PA\, United States
CATEGORIES:Special Event
ATTACH;FMTTYPE=image/jpeg:https://wacreading.org/wp-content/uploads/2020/05/Fegleu.jpeg
END:VEVENT
BEGIN:VEVENT
DTSTART;TZID=America/New_York:20200527T120000
DTEND;TZID=America/New_York:20200527T133000
DTSTAMP:20260423T180011
CREATED:20200501T162156Z
LAST-MODIFIED:20200524T214754Z
UID:6162-1590580800-1590586200@wacreading.org
SUMMARY:India and Pakistan with Dr. Sudip Ghosh
DESCRIPTION:Dr. Sudip Ghosh is an associate professor of business at Penn State Berks. His scholarly and teaching interests include corporate finance\, banking and financial regulations\, macro-monetary economics\, and corporate social responsibility. He has presented pre-conference workshops and conference sessions at international conferences. Dissertation Topic: “Risk Based Capital Requirements and the U. S. Loan Market” \nThis event starts at 12:00 PM on Wednesday\, May 27th. \nMembers are invited to join by Zoom and participate in the live Q&A. Zoom details will be emailed in our weekly email newsletter. If you are a member and have not received this email\, please send a message to contactus@wacreading.org. \nJoin via www.wacreading.org/live!\nPlease join a few minutes early so you don’t miss anything! \nhttps://www.facebook.com/wacreading/posts/3926112307430356 \n 
URL:https://wacreading.org/event/india-and-pakistan-with-dr-sudip-ghosh/
LOCATION:PA\, United States
CATEGORIES:Special Event
ATTACH;FMTTYPE=image/jpeg:https://wacreading.org/wp-content/uploads/2020/05/sudip-ghosh.jpg
END:VEVENT
BEGIN:VEVENT
DTSTART;TZID=America/New_York:20200514T120000
DTEND;TZID=America/New_York:20200514T133000
DTSTAMP:20260423T180011
CREATED:20200422T002310Z
LAST-MODIFIED:20200517T214944Z
UID:6101-1589457600-1589463000@wacreading.org
SUMMARY:China's Road into Latin America with Dr. John Stanley
DESCRIPTION:For Video replay\, click HERE \nDr. John Stanley is originally from the Philadelphia area. He earned his BA from Moravian College in 1994 and later earned his Masters and PhD from the School of Oriental and African Studies (University of London) where he focused on China’s history and politics. He currently holds the position of Professor in the History Department of Kutztown University where he teaches classes in World History\, general East Asia\, and more focused classes on Chinese history with a focus on the late-19th and early-20th century. The focus of Dr. Stanley’s research work is on the secular activities of missionaries in China. He has published articles on mission schools and medical work of the American Presbyterians in Shandong from the late-19th to the early-20th century.  His more recent research has turned to the role the local population had in mission work with a particular focus on areas of Shandong outside of the larger treaty port cities.  \nThis event starts at 12:00 PM on Thursday\, May 14th.\n \nMembers are invited to join by Zoom and participate in the live Q&A. Zoom details will be emailed in our weekly email newsletter. If you are a member and have not received this email\, please send a message to contactus@wacreading.org. \nThe public is invited to watch the meeting via Facebook Live. \nhttps://www.facebook.com/wacreading/posts/3878699878838266
URL:https://wacreading.org/event/chinas-road-into-latin-america-with-dr-john-stanley/
LOCATION:PA\, United States
CATEGORIES:Special Event
ATTACH;FMTTYPE=image/jpeg:https://wacreading.org/wp-content/uploads/2020/04/Unknown-2.jpeg
END:VEVENT
BEGIN:VEVENT
DTSTART;TZID=America/New_York:20200506T190000
DTEND;TZID=America/New_York:20200506T203000
DTSTAMP:20260423T180011
CREATED:20200409T175024Z
LAST-MODIFIED:20200517T215215Z
UID:6016-1588791600-1588797000@wacreading.org
SUMMARY:Europe in the Age of Corona - with Ron Granieri
DESCRIPTION:For Video replay\, click HERE \nRon Granieri is an FPRI Templeton Fellow\, the Executive Director of FPRI’s Center for the Study of America and the West\, Editor of the Center’s E-publication The American Review of Books\, Blogs\, and Bull\, and Host of Geopolitics with Granieri\, a monthly series of events for FPRI Members.  He is a specialist in Contemporary German and International History with degrees from both Harvard and the University of Chicago. He is the recipient of a Federal Chancellor Scholarship from the Alexander von Humboldt Foundation and is a member in the American Council on Germany’s Young Leader Program. He has taught at the University of Pennsylvania\, Temple University\, Syracuse University\, Furman University\, and the University of Tubingen. He is the author of The Ambivalent Alliance: Konrad Adenauer\, the CDU/CSU\, and the West\, 1949-1966 (Oxford and New York: Berghahn Books\, 2003)\, and is currently completing a book entitled: The Fall and Rise of German Christian Democracy\, From Detente to Reunification\, for Oxford University Press. \nJoin us Wednesday\, May 6th at 7pm on Facebook Live \nMembers are invited to join live via Zoom \nConnection details can be found in your May 1st Member’s Email Newsletter. \n 
URL:https://wacreading.org/event/europe-in-the-age-of-corona-with-ron-granieri/
LOCATION:PA\, United States
CATEGORIES:Special Event
ATTACH;FMTTYPE=image/jpeg:https://wacreading.org/wp-content/uploads/2020/04/ronald_granieri.jpg
END:VEVENT
BEGIN:VEVENT
DTSTART;TZID=America/New_York:20180409T050000
DTEND;TZID=America/New_York:20180409T150000
DTSTAMP:20260423T180011
CREATED:20180407T111535Z
LAST-MODIFIED:20180407T111535Z
UID:4595-1523250000-1523286000@wacreading.org
SUMMARY:From Coexistence To Shared Society
DESCRIPTION:The Jewish Federation of Reading sponsored event. April 9\, 2018 – 7:00 PM – Reform Congregation Oheb Shalom\, 555 Warwick Dr. Wyomissing. Free and open to the public\nMohammad Darawshe\nFrom Coexistence To Shared Society \nMohammad Darawshe is the Director of Center for Equality & Shared Society\, Givat Haviva. The lecture will focus on efforts of institutions in Israel to move from social interactions between Jewish and Arab youth to a more substantial engagement between both societies\, bringing examples demonstrating abilities to engage in collaborative efforts serving both interests. Mr. Darawshe will touch on what can be down on the social\, economic\, and political arenas to build islands of success in Jewish Arab relations\, and how these efforts manage to engage mainstream leadership from both communities.
URL:https://wacreading.org/event/from-coexistence-to-shared-society/
LOCATION:PA
CATEGORIES:Special Event
END:VEVENT
BEGIN:VEVENT
DTSTART;TZID=America/New_York:20180407T050000
DTEND;TZID=America/New_York:20180407T150000
DTSTAMP:20260423T180011
CREATED:20180407T120806Z
LAST-MODIFIED:20180407T120806Z
UID:4598-1523077200-1523113200@wacreading.org
SUMMARY:Race\, Perserverance and Catholicism
DESCRIPTION:Alvernia Lecture – 7:00 PM – McGlinn Conference Center @ Alvernia U.\nDr. Darren Davis\nRace\, Perserverance and Catholicism \nDr. Darren Davis is a nationally recognized scholar in political behavior and racial politics.
URL:https://wacreading.org/event/4598/
LOCATION:PA
CATEGORIES:Special Event
END:VEVENT
END:VCALENDAR