BEGIN:VCALENDAR
VERSION:2.0
PRODID:-//The World Affairs Council of Greater Reading - ECPv6.15.20//NONSGML v1.0//EN
CALSCALE:GREGORIAN
METHOD:PUBLISH
X-ORIGINAL-URL:https://wacreading.org
X-WR-CALDESC:Events for The World Affairs Council of Greater Reading
REFRESH-INTERVAL;VALUE=DURATION:PT1H
X-Robots-Tag:noindex
X-PUBLISHED-TTL:PT1H
BEGIN:VTIMEZONE
TZID:America/New_York
BEGIN:DAYLIGHT
TZOFFSETFROM:-0500
TZOFFSETTO:-0400
TZNAME:EDT
DTSTART:20240310T070000
END:DAYLIGHT
BEGIN:STANDARD
TZOFFSETFROM:-0400
TZOFFSETTO:-0500
TZNAME:EST
DTSTART:20241103T060000
END:STANDARD
BEGIN:DAYLIGHT
TZOFFSETFROM:-0500
TZOFFSETTO:-0400
TZNAME:EDT
DTSTART:20250309T070000
END:DAYLIGHT
BEGIN:STANDARD
TZOFFSETFROM:-0400
TZOFFSETTO:-0500
TZNAME:EST
DTSTART:20251102T060000
END:STANDARD
BEGIN:DAYLIGHT
TZOFFSETFROM:-0500
TZOFFSETTO:-0400
TZNAME:EDT
DTSTART:20260308T070000
END:DAYLIGHT
BEGIN:STANDARD
TZOFFSETFROM:-0400
TZOFFSETTO:-0500
TZNAME:EST
DTSTART:20261101T060000
END:STANDARD
END:VTIMEZONE
BEGIN:VEVENT
DTSTART;TZID=America/New_York:20250521T120000
DTEND;TZID=America/New_York:20250521T133000
DTSTAMP:20260424T091720
CREATED:20250213T204137Z
LAST-MODIFIED:20250302T192907Z
UID:8112-1747828800-1747834200@wacreading.org
SUMMARY:Sudan Nightmares: An Update with Dr. Randall Fegley
DESCRIPTION:Dr. Randall Fegley\, Associate Professor of History at Penn State Berks\, was named Executive Director of the Sudan Studies Association (SSA) during the organization?s 32nd Annual Conference on May 24\, 2013\, at the University of Pennsylvania in Philadelphia. This followed his completion of a two-year term as SSA President. In this role\, Fegley will oversee the organization?s transition to a new generation of officers and board members. \nThe Sudan Studies Association (SSA) is an independent professional society founded in the United States in 1981. Membership is open to scholars\, teachers\, students\, and others with interest in the Sudan. The Association exists primarily to promote Sudanese studies and scholarship. \nTHIS EVENT WILL BE HELD VIRTUALLY. \nClick here to register for this webinar
URL:https://wacreading.org/event/sudan-nightmares-an-update-with-dr-randall-fegley/
LOCATION:Virtual Event\, PA\, United States
CATEGORIES:Special Event
ATTACH;FMTTYPE=image/jpeg:https://wacreading.org/wp-content/uploads/2025/02/Fegley.jpg
END:VEVENT
END:VCALENDAR