BEGIN:VCALENDAR
VERSION:2.0
PRODID:-//The World Affairs Council of Greater Reading - ECPv6.15.20//NONSGML v1.0//EN
CALSCALE:GREGORIAN
METHOD:PUBLISH
X-WR-CALNAME:The World Affairs Council of Greater Reading
X-ORIGINAL-URL:https://wacreading.org
X-WR-CALDESC:Events for The World Affairs Council of Greater Reading
REFRESH-INTERVAL;VALUE=DURATION:PT1H
X-Robots-Tag:noindex
X-PUBLISHED-TTL:PT1H
BEGIN:VTIMEZONE
TZID:America/New_York
BEGIN:DAYLIGHT
TZOFFSETFROM:-0500
TZOFFSETTO:-0400
TZNAME:EDT
DTSTART:20240310T070000
END:DAYLIGHT
BEGIN:STANDARD
TZOFFSETFROM:-0400
TZOFFSETTO:-0500
TZNAME:EST
DTSTART:20241103T060000
END:STANDARD
BEGIN:DAYLIGHT
TZOFFSETFROM:-0500
TZOFFSETTO:-0400
TZNAME:EDT
DTSTART:20250309T070000
END:DAYLIGHT
BEGIN:STANDARD
TZOFFSETFROM:-0400
TZOFFSETTO:-0500
TZNAME:EST
DTSTART:20251102T060000
END:STANDARD
BEGIN:DAYLIGHT
TZOFFSETFROM:-0500
TZOFFSETTO:-0400
TZNAME:EDT
DTSTART:20260308T070000
END:DAYLIGHT
BEGIN:STANDARD
TZOFFSETFROM:-0400
TZOFFSETTO:-0500
TZNAME:EST
DTSTART:20261101T060000
END:STANDARD
END:VTIMEZONE
BEGIN:VEVENT
DTSTART;TZID=America/New_York:20250115T120000
DTEND;TZID=America/New_York:20250115T133000
DTSTAMP:20260424T154349
CREATED:20240930T185836Z
LAST-MODIFIED:20241112T153619Z
UID:8019-1736942400-1736947800@wacreading.org
SUMMARY:North Korea under Kim Jong Un-A Security Challenge with a Few Good Options - with Dr. Terrence Roehrig
DESCRIPTION:This will be a virtual event. \nProfessor of national security affairs\, Terrence Roehrig has been a research fellow at the Kennedy School at Harvard University in the International Security Program and the Project on Managing the Atom. He is a non-resident expert at the Center for Korean Legal Studies at Columbia University. He has published numerous books\, articles and book chapters on Korean and East Asian security issues\, North Korea’s nuclear weapons program\, the U.S.-Republic of Korea alliance\, Korean maritime issues\, human rights and transitional justice. He has given presentations to U.S. Forces Korea\, the U.S. Embassy Seoul and the ROK JCS J-5. He has been a past president of the Association of Korean Political Studies. \nClick here to register for this webinar now.
URL:https://wacreading.org/event/north-korea-under-kim-jong-un-a-security-challenge-with-a-few-good-options-with-dr-terrence-roehrig/
LOCATION:Virtual Event\, PA\, United States
CATEGORIES:Special Event
ATTACH;FMTTYPE=image/jpeg:https://wacreading.org/wp-content/uploads/2024/09/roehrig.jpg
END:VEVENT
END:VCALENDAR