BEGIN:VCALENDAR
VERSION:2.0
PRODID:-//The World Affairs Council of Greater Reading - ECPv6.15.20//NONSGML v1.0//EN
CALSCALE:GREGORIAN
METHOD:PUBLISH
X-WR-CALNAME:The World Affairs Council of Greater Reading
X-ORIGINAL-URL:https://wacreading.org
X-WR-CALDESC:Events for The World Affairs Council of Greater Reading
REFRESH-INTERVAL;VALUE=DURATION:PT1H
X-Robots-Tag:noindex
X-PUBLISHED-TTL:PT1H
BEGIN:VTIMEZONE
TZID:America/New_York
BEGIN:DAYLIGHT
TZOFFSETFROM:-0500
TZOFFSETTO:-0400
TZNAME:EDT
DTSTART:20230312T070000
END:DAYLIGHT
BEGIN:STANDARD
TZOFFSETFROM:-0400
TZOFFSETTO:-0500
TZNAME:EST
DTSTART:20231105T060000
END:STANDARD
BEGIN:DAYLIGHT
TZOFFSETFROM:-0500
TZOFFSETTO:-0400
TZNAME:EDT
DTSTART:20240310T070000
END:DAYLIGHT
BEGIN:STANDARD
TZOFFSETFROM:-0400
TZOFFSETTO:-0500
TZNAME:EST
DTSTART:20241103T060000
END:STANDARD
BEGIN:DAYLIGHT
TZOFFSETFROM:-0500
TZOFFSETTO:-0400
TZNAME:EDT
DTSTART:20250309T070000
END:DAYLIGHT
BEGIN:STANDARD
TZOFFSETFROM:-0400
TZOFFSETTO:-0500
TZNAME:EST
DTSTART:20251102T060000
END:STANDARD
END:VTIMEZONE
BEGIN:VEVENT
DTSTART;TZID=America/New_York:20241002T121500
DTEND;TZID=America/New_York:20241002T131500
DTSTAMP:20260424T201518
CREATED:20240711T210122Z
LAST-MODIFIED:20240719T204130Z
UID:7785-1727871300-1727874900@wacreading.org
SUMMARY:Experience as a Peace Corps Volunteer in E. Timor with Jaymi Smith
DESCRIPTION:This is a zoom presentation \nJaymi Smith graduated from Penn State Berks with a degree in Global Studies in Spring 2023. Currently\, she is serving as a Peace Corps volunteer in Timor-Leste\, a small island in Southeast Asia. \nIn her presentation\, she will share her experiences as a Peace Corps volunteer\, including what it’s like to live and work in a completely different culture\, the challenges and rewards of living in a less developed country\, and the important lessons she has learned about herself along the way. She will also introduce you to the rich culture and history of Timor-Leste\, a place many may not yet be familiar with. \nIf you have ever considered becoming a volunteer or are simply interested in the process and experiences of a Peace Corps volunteer\, we invite you to join Jaymi for this presentation.  She looks forward to sharing her journey. \nThis is a virtual presentation co-sponsored with Penn State Berks. \nClick here to register for this event now.
URL:https://wacreading.org/event/experience-as-a-peace-corps-volunteer-in-e-timor-with-jamie-smith/
LOCATION:Virtual Event\, PA\, United States
CATEGORIES:Special Event
ATTACH;FMTTYPE=image/png:https://wacreading.org/wp-content/uploads/2024/07/Screenshot-2024-07-11-at-4.29.38 PM.png
END:VEVENT
END:VCALENDAR