BEGIN:VCALENDAR
VERSION:2.0
PRODID:-//The World Affairs Council of Greater Reading - ECPv6.15.20//NONSGML v1.0//EN
CALSCALE:GREGORIAN
METHOD:PUBLISH
X-WR-CALNAME:The World Affairs Council of Greater Reading
X-ORIGINAL-URL:https://wacreading.org
X-WR-CALDESC:Events for The World Affairs Council of Greater Reading
REFRESH-INTERVAL;VALUE=DURATION:PT1H
X-Robots-Tag:noindex
X-PUBLISHED-TTL:PT1H
BEGIN:VTIMEZONE
TZID:America/New_York
BEGIN:DAYLIGHT
TZOFFSETFROM:-0500
TZOFFSETTO:-0400
TZNAME:EDT
DTSTART:20230312T070000
END:DAYLIGHT
BEGIN:STANDARD
TZOFFSETFROM:-0400
TZOFFSETTO:-0500
TZNAME:EST
DTSTART:20231105T060000
END:STANDARD
BEGIN:DAYLIGHT
TZOFFSETFROM:-0500
TZOFFSETTO:-0400
TZNAME:EDT
DTSTART:20240310T070000
END:DAYLIGHT
BEGIN:STANDARD
TZOFFSETFROM:-0400
TZOFFSETTO:-0500
TZNAME:EST
DTSTART:20241103T060000
END:STANDARD
BEGIN:DAYLIGHT
TZOFFSETFROM:-0500
TZOFFSETTO:-0400
TZNAME:EDT
DTSTART:20250309T070000
END:DAYLIGHT
BEGIN:STANDARD
TZOFFSETFROM:-0400
TZOFFSETTO:-0500
TZNAME:EST
DTSTART:20251102T060000
END:STANDARD
END:VTIMEZONE
BEGIN:VEVENT
DTSTART;TZID=America/New_York:20240403T123000
DTEND;TZID=America/New_York:20240403T140000
DTSTAMP:20260425T062351
CREATED:20240224T145824Z
LAST-MODIFIED:20240229T023842Z
UID:7628-1712147400-1712152800@wacreading.org
SUMMARY:International Careers Panel for College Students sponsored by WAC of Tennessee and WAC of Greater Reading
DESCRIPTION:The Tennessee World Affairs Council in collaboration with the World Affairs Council of Greater Reading is offering An International Careers Panel via Zoom at 12:30 – 2:00 Eastern Time on Wednesday April 3\, 2024. \nDo you wonder what jobs and careers there are in International affairs? There is more than you think. Every Fall and Spring\, the World Affairs Council of TN assembles diplomats\, business peoples\, NGO officials\, returned Peace Corp volunteers  and more to talk about their experiences and insights and to answer your questions at this very popular panel. Topics for discussion include opportunities for internships\, the transition between school and work\, advise for career paths\, and hard and soft skills needed for current and future careers. \nThis Program is free for students. Click here or go to www.tnwac.org web site to register. \nPlease note that Tennessee is in the Central Time Zone and we are in the Eastern Time Zone. Tennessee’s start time for this program is 11:30 AM. Start time for WAC Reading is 12:30 PM Eastern Time.
URL:https://wacreading.org/event/international-careers-panel-for-college-students-sponsored-by-wac-of-tennessee-and-wac-of-greater-reading/
LOCATION:Virtual Event\, PA\, United States
CATEGORIES:Special Event
ATTACH;FMTTYPE=image/png:https://wacreading.org/wp-content/uploads/2024/02/Screenshot-2024-02-24-at-9.31.06 AM.png
END:VEVENT
BEGIN:VEVENT
DTSTART;TZID=America/New_York:20240410T120000
DTEND;TZID=America/New_York:20240410T133000
DTSTAMP:20260425T062351
CREATED:20240318T183618Z
LAST-MODIFIED:20240323T164648Z
UID:7648-1712750400-1712755800@wacreading.org
SUMMARY:The Palestinian and Israeli Conflict: An Historical Perspective with Tod Witman
DESCRIPTION:VIRTUAL EVENT 12:00 NOON APRIL 10TH \nMr. Witman will review the 4\,000  year history of the region\, expanding upon the well-received presentation he made as part of the panel discussion on the current Palestinian and Israeli conflict hosted by the World Affairs Council of Greater Reading January 17\, 2024 at the McGlinn Conference and Spirituality Center\, Alvernia University. \nTod Witman is a 32 year veteran educator in Berks County’s public schools\, with the last 21 served at Schuylkill Valley High School.  He is a longtime teacher of Advanced Placement World History and World Cultures courses and has taught almost every Social Studies course offered at SVHS.  He has participated in multiple highly selective institutes designed for high school history teachers\, including several from the Foreign Policy Association in New York City and the Foreign Policy Research Institute in Philadelphia.  These range in topics from the Israeli-Palestinian conflict to Iran’s interactions with the West to Russia’s foreign policy aspirations since the collapse of The Soviet Union.  In addition to teaching high school history\, he is a scoring leader for the College Board’s annual AP World History Reading.  He has also served as an AP World History consultant for the College Board and the National Math and Science Initiative via a program that delivers Advanced Placement content to traditionally underserved student populations in New York City.  He founded the World Affairs Club and Model UN Team at Schuylkill Valley High School and has worked closely with the World Affairs Council of Greater Reading to bring international learning opportunities to students across Berks County. \nThis event will be held VIRTUALLY at 12:00 Noon April 10th.\nClick here to register for this event now.
URL:https://wacreading.org/event/the-palestinian-and-israeli-conflict-an-historical-perspective-with-tod-witman/
LOCATION:Virtual Event\, PA\, United States
CATEGORIES:Special Event
ATTACH;FMTTYPE=image/jpeg:https://wacreading.org/wp-content/uploads/2024/03/Headshot-2.jpg
END:VEVENT
END:VCALENDAR