BEGIN:VCALENDAR
VERSION:2.0
PRODID:-//The World Affairs Council of Greater Reading - ECPv6.15.20//NONSGML v1.0//EN
CALSCALE:GREGORIAN
METHOD:PUBLISH
X-WR-CALNAME:The World Affairs Council of Greater Reading
X-ORIGINAL-URL:https://wacreading.org
X-WR-CALDESC:Events for The World Affairs Council of Greater Reading
REFRESH-INTERVAL;VALUE=DURATION:PT1H
X-Robots-Tag:noindex
X-PUBLISHED-TTL:PT1H
BEGIN:VTIMEZONE
TZID:America/New_York
BEGIN:DAYLIGHT
TZOFFSETFROM:-0500
TZOFFSETTO:-0400
TZNAME:EDT
DTSTART:20220313T070000
END:DAYLIGHT
BEGIN:STANDARD
TZOFFSETFROM:-0400
TZOFFSETTO:-0500
TZNAME:EST
DTSTART:20221106T060000
END:STANDARD
BEGIN:DAYLIGHT
TZOFFSETFROM:-0500
TZOFFSETTO:-0400
TZNAME:EDT
DTSTART:20230312T070000
END:DAYLIGHT
BEGIN:STANDARD
TZOFFSETFROM:-0400
TZOFFSETTO:-0500
TZNAME:EST
DTSTART:20231105T060000
END:STANDARD
BEGIN:DAYLIGHT
TZOFFSETFROM:-0500
TZOFFSETTO:-0400
TZNAME:EDT
DTSTART:20240310T070000
END:DAYLIGHT
BEGIN:STANDARD
TZOFFSETFROM:-0400
TZOFFSETTO:-0500
TZNAME:EST
DTSTART:20241103T060000
END:STANDARD
END:VTIMEZONE
BEGIN:VEVENT
DTSTART;TZID=America/New_York:20231002T193000
DTEND;TZID=America/New_York:20231002T193000
DTSTAMP:20260425T162653
CREATED:20230830T205725Z
LAST-MODIFIED:20230830T211209Z
UID:7523-1696275000-1696275000@wacreading.org
SUMMARY:43rd Annual Leo Camp Memorial Lecture at Albright College
DESCRIPTION:Will the environment survive a renewed Middle East peace process? A blueprint for progress. \nPresented by Alon Tal
URL:https://wacreading.org/event/43rd-annual-leo-camp-memorial-lecture-at-albright-college/
LOCATION:Albright College\, McMillan Student Center South Lounge\, 13th and Bern Streets\, Reading\, PA\, 19612\, United States
CATEGORIES:Special Event
ATTACH;FMTTYPE=image/png:https://wacreading.org/wp-content/uploads/2023/08/Leo-Camp-Poster-2023.png
END:VEVENT
END:VCALENDAR