BEGIN:VCALENDAR
VERSION:2.0
PRODID:-//The World Affairs Council of Greater Reading - ECPv6.15.20//NONSGML v1.0//EN
CALSCALE:GREGORIAN
METHOD:PUBLISH
X-WR-CALNAME:The World Affairs Council of Greater Reading
X-ORIGINAL-URL:https://wacreading.org
X-WR-CALDESC:Events for The World Affairs Council of Greater Reading
REFRESH-INTERVAL;VALUE=DURATION:PT1H
X-Robots-Tag:noindex
X-PUBLISHED-TTL:PT1H
BEGIN:VTIMEZONE
TZID:America/New_York
BEGIN:DAYLIGHT
TZOFFSETFROM:-0500
TZOFFSETTO:-0400
TZNAME:EDT
DTSTART:20220313T070000
END:DAYLIGHT
BEGIN:STANDARD
TZOFFSETFROM:-0400
TZOFFSETTO:-0500
TZNAME:EST
DTSTART:20221106T060000
END:STANDARD
BEGIN:DAYLIGHT
TZOFFSETFROM:-0500
TZOFFSETTO:-0400
TZNAME:EDT
DTSTART:20230312T070000
END:DAYLIGHT
BEGIN:STANDARD
TZOFFSETFROM:-0400
TZOFFSETTO:-0500
TZNAME:EST
DTSTART:20231105T060000
END:STANDARD
BEGIN:DAYLIGHT
TZOFFSETFROM:-0500
TZOFFSETTO:-0400
TZNAME:EDT
DTSTART:20240310T070000
END:DAYLIGHT
BEGIN:STANDARD
TZOFFSETFROM:-0400
TZOFFSETTO:-0500
TZNAME:EST
DTSTART:20241103T060000
END:STANDARD
END:VTIMEZONE
BEGIN:VEVENT
DTSTART;TZID=America/New_York:20230921T120000
DTEND;TZID=America/New_York:20230921T133000
DTSTAMP:20260425T180940
CREATED:20230817T003857Z
LAST-MODIFIED:20230823T125108Z
UID:7506-1695297600-1695303000@wacreading.org
SUMMARY:India and what its Democracy means to the US and the World with Dr. Daniel Markey
DESCRIPTION:Dr. Daniel Markey is a senior advisor on South Asia at the United States Institute of Peace. He is also a senior fellow at the Johns Hopkins University’s School of Advanced International Studies (SAIS) Foreign Policy Institute. \nFrom 2015-2021\, Dr. Markey was a senior research professor in international relations at SAIS\, where he launched and led the Master of Arts in Global Policy degree program and taught courses in international politics and policy. From 2007-2015\, Dr. Markey was a senior fellow for India\, Pakistan\, and South Asia at the Council on Foreign Relations. From 2003 to 2007\, Dr. Markey was a member of the U.S. State Department’s Policy Planning Staff. His work focused on U.S. strategy in South Asia\, especially Pakistan and India. Prior to government service\, he taught in the Department of Politics at Princeton University and served as executive director of Princeton’s Research Program in International Security. Earlier\, he was a postdoctoral fellow at Harvard’s Olin Institute for Strategic Studies. \nDr. Markey has two decades of academic\, think tank\, and government experience focused on international relations and U.S. policy in Asia\, with a particular focus on South Asia and China’s evolving role in the region. Dr. Markey earned his bachelor’s in international relations from Johns Hopkins and his doctorate in politics from Princeton. \nDr. Markey is the author of China’s Western Horizon: Beijing and the New Geopolitics of Eurasia (Oxford University Press\, 2020). The book assesses the evolving political\, economic\, and security links between China and its western neighbors\, including Pakistan\, India\, Kazakhstan\, Russia\, Saudi Arabia\, and Iran. He is also the author of No Exit from Pakistan: America’s Tortured Relationship with Islamabad (Cambridge University Press\, 2013) as well as numerous reports\, articles\, book chapters\, and opinion pieces. His commentary has been featured widely in U.S. and international media. \nThis event will be held virtually on September 21 at 12:00 noon. \nClick here to register for this event now.
URL:https://wacreading.org/event/india-and-what-its-democracy-means-to-the-us-and-the-world-with-dr-danial-markey/
LOCATION:Virtual Event\, PA\, United States
CATEGORIES:Special Event
ATTACH;FMTTYPE=image/jpeg:https://wacreading.org/wp-content/uploads/2023/08/Unknown.jpeg
END:VEVENT
END:VCALENDAR