BEGIN:VCALENDAR
VERSION:2.0
PRODID:-//The World Affairs Council of Greater Reading - ECPv6.15.20//NONSGML v1.0//EN
CALSCALE:GREGORIAN
METHOD:PUBLISH
X-ORIGINAL-URL:https://wacreading.org
X-WR-CALDESC:Events for The World Affairs Council of Greater Reading
REFRESH-INTERVAL;VALUE=DURATION:PT1H
X-Robots-Tag:noindex
X-PUBLISHED-TTL:PT1H
BEGIN:VTIMEZONE
TZID:America/New_York
BEGIN:DAYLIGHT
TZOFFSETFROM:-0500
TZOFFSETTO:-0400
TZNAME:EDT
DTSTART:20250309T070000
END:DAYLIGHT
BEGIN:STANDARD
TZOFFSETFROM:-0400
TZOFFSETTO:-0500
TZNAME:EST
DTSTART:20251102T060000
END:STANDARD
BEGIN:DAYLIGHT
TZOFFSETFROM:-0500
TZOFFSETTO:-0400
TZNAME:EDT
DTSTART:20260308T070000
END:DAYLIGHT
BEGIN:STANDARD
TZOFFSETFROM:-0400
TZOFFSETTO:-0500
TZNAME:EST
DTSTART:20261101T060000
END:STANDARD
BEGIN:DAYLIGHT
TZOFFSETFROM:-0500
TZOFFSETTO:-0400
TZNAME:EDT
DTSTART:20270314T070000
END:DAYLIGHT
BEGIN:STANDARD
TZOFFSETFROM:-0400
TZOFFSETTO:-0500
TZNAME:EST
DTSTART:20271107T060000
END:STANDARD
END:VTIMEZONE
BEGIN:VEVENT
DTSTART;TZID=America/New_York:20260311T113000
DTEND;TZID=America/New_York:20260311T133000
DTSTAMP:20260423T164250
CREATED:20250820T182050Z
LAST-MODIFIED:20260309T142434Z
UID:8360-1773228600-1773235800@wacreading.org
SUMMARY:The Plight of the Kurds with Kani Xulam
DESCRIPTION:Kani Xulam is a native of Kurdistan. He studied International Relations at the University of Toronto\, holds a BA in history from the University of California Santa Barbara and an MA in the International Service program at American University. \nAt the University of Toronto\, he represented Kurdistan at the Model United Nations\, which passed a nonbinding resolution recognizing the right of the Kurdish people to self-determination.\nAt the University of California Santa Barbara\, he was part of a group of peace activists who protested the first Gulf War by taking part in a sit-in at Chancellor’s office in January 1991. Everyone was arrested. Mr. Xulam pled not guilty\, defended himself\, and was sentenced to 18 hours of community service to plant saplings in Santa Barbara. \nIn 1993\, at the urging of Kurdish community leaders in America\, he left his family business in Santa Barbara\, California to establish the American Kurdish Information Network (AKIN) in the nation’s capital. AKIN is a nonprofit organization dedicated to fostering Kurdish-American understanding and friendship. \nClick here to register for this live event now
URL:https://wacreading.org/event/the-plight-of-the-kurds-with-kani-xulam/
LOCATION:McGlinn Conference Center\, 460 Saint Bernardine Street\, Reading\, PA\, 19607\, United States
CATEGORIES:Luncheon Meeting
ATTACH;FMTTYPE=image/jpeg:https://wacreading.org/wp-content/uploads/2025/08/images.jpeg
END:VEVENT
END:VCALENDAR