BEGIN:VCALENDAR
VERSION:2.0
PRODID:-//The World Affairs Council of Greater Reading - ECPv6.15.20//NONSGML v1.0//EN
CALSCALE:GREGORIAN
METHOD:PUBLISH
X-WR-CALNAME:The World Affairs Council of Greater Reading
X-ORIGINAL-URL:https://wacreading.org
X-WR-CALDESC:Events for The World Affairs Council of Greater Reading
REFRESH-INTERVAL;VALUE=DURATION:PT1H
X-Robots-Tag:noindex
X-PUBLISHED-TTL:PT1H
BEGIN:VTIMEZONE
TZID:America/New_York
BEGIN:DAYLIGHT
TZOFFSETFROM:-0500
TZOFFSETTO:-0400
TZNAME:EDT
DTSTART:20240310T070000
END:DAYLIGHT
BEGIN:STANDARD
TZOFFSETFROM:-0400
TZOFFSETTO:-0500
TZNAME:EST
DTSTART:20241103T060000
END:STANDARD
BEGIN:DAYLIGHT
TZOFFSETFROM:-0500
TZOFFSETTO:-0400
TZNAME:EDT
DTSTART:20250309T070000
END:DAYLIGHT
BEGIN:STANDARD
TZOFFSETFROM:-0400
TZOFFSETTO:-0500
TZNAME:EST
DTSTART:20251102T060000
END:STANDARD
BEGIN:DAYLIGHT
TZOFFSETFROM:-0500
TZOFFSETTO:-0400
TZNAME:EDT
DTSTART:20260308T070000
END:DAYLIGHT
BEGIN:STANDARD
TZOFFSETFROM:-0400
TZOFFSETTO:-0500
TZNAME:EST
DTSTART:20261101T060000
END:STANDARD
END:VTIMEZONE
BEGIN:VEVENT
DTSTART;TZID=America/New_York:20250910T113000
DTEND;TZID=America/New_York:20250910T133000
DTSTAMP:20260424T031353
CREATED:20250403T162953Z
LAST-MODIFIED:20250706T193754Z
UID:8211-1757503800-1757511000@wacreading.org
SUMMARY:Europe in the Post-Atlantic Age with Ron Granieri
DESCRIPTION:Ronald J. Granieri is a 2024 Templeton Fellow and the Director of the Center for the Study of America and the West at the Foreign Policy Research Institute. He also hosts People\, Politics\, and Prose\, a monthly event series at FPRI. Dr. Granieri is also Professor of History in the Department of National Security and Strategy at the United States Army War College. A graduate of Harvard and the University of Chicago and a former Federal Chancellor Scholar of the Alexander von Humboldt-Stiftung\, Dr. Granieri is the author of The Ambivalent Alliance: Konrad Adenauer\, the CDU/CSU\, and the West\, 1949-1966 (Berghahn\, 2003) as well as articles on German History\, European-American Relations\, the Cold War\, and contemporary politics in journals such as Orbis\, Central European History\, Foreign Policy\, and The International History Review and has also published op-ed essays in The Hill and the Washington Post. \nClick here to register for this live event now
URL:https://wacreading.org/event/germany-europe-update-with-ron-granieri/
LOCATION:McGlinn Conference Center\, 460 Saint Bernardine Street\, Reading\, PA\, 19607\, United States
CATEGORIES:Luncheon Meeting
ATTACH;FMTTYPE=image/jpeg:https://wacreading.org/wp-content/uploads/2024/04/RonMuseum-rotated-e1714230542531.jpg
END:VEVENT
END:VCALENDAR