BEGIN:VCALENDAR
VERSION:2.0
PRODID:-//The World Affairs Council of Greater Reading - ECPv6.15.20//NONSGML v1.0//EN
CALSCALE:GREGORIAN
METHOD:PUBLISH
X-WR-CALNAME:The World Affairs Council of Greater Reading
X-ORIGINAL-URL:https://wacreading.org
X-WR-CALDESC:Events for The World Affairs Council of Greater Reading
REFRESH-INTERVAL;VALUE=DURATION:PT1H
X-Robots-Tag:noindex
X-PUBLISHED-TTL:PT1H
BEGIN:VTIMEZONE
TZID:America/New_York
BEGIN:DAYLIGHT
TZOFFSETFROM:-0500
TZOFFSETTO:-0400
TZNAME:EDT
DTSTART:20240310T070000
END:DAYLIGHT
BEGIN:STANDARD
TZOFFSETFROM:-0400
TZOFFSETTO:-0500
TZNAME:EST
DTSTART:20241103T060000
END:STANDARD
BEGIN:DAYLIGHT
TZOFFSETFROM:-0500
TZOFFSETTO:-0400
TZNAME:EDT
DTSTART:20250309T070000
END:DAYLIGHT
BEGIN:STANDARD
TZOFFSETFROM:-0400
TZOFFSETTO:-0500
TZNAME:EST
DTSTART:20251102T060000
END:STANDARD
BEGIN:DAYLIGHT
TZOFFSETFROM:-0500
TZOFFSETTO:-0400
TZNAME:EDT
DTSTART:20260308T070000
END:DAYLIGHT
BEGIN:STANDARD
TZOFFSETFROM:-0400
TZOFFSETTO:-0500
TZNAME:EST
DTSTART:20261101T060000
END:STANDARD
END:VTIMEZONE
BEGIN:VEVENT
DTSTART;TZID=America/New_York:20250409T113000
DTEND;TZID=America/New_York:20250409T133000
DTSTAMP:20260424T113524
CREATED:20240930T195143Z
LAST-MODIFIED:20250302T191946Z
UID:8030-1744198200-1744205400@wacreading.org
SUMMARY:The Role of the Inspector General in the Battle for Honest and Accountable Government with Glenn Fine
DESCRIPTION:Glenn Fine is a nonresident fellow in the Governance Studies program at The Brookings Institution. \nFine served as the Inspector General for the Department of Justice from 2000 to 2011 in the Clinton\, Bush\, and Obama Administrations. As the Inspector General\, he supervised and issued reports of investigations and audits on many high-profile issues facing the Department of Justice. \nAfter practicing law at a firm\, Fine returned to government\, and in January 2016 he became the Acting Inspector General for the Department of Defense. In this role\, he led the largest inspector general’s office with more than 1700 staff in 50 offices around the country and the world\, for over four years. \nFine has testified more than 50 times before Congressional committees and has written articles on the role of inspectors general\, federal investigations\, and management in federal agencies. He has received numerous honors for his inspector general work\, including being named the Lawyer of the Year by the National Law Journal. \nFine graduated from Harvard College\, where he majored in economics. He was the co-captain of the Harvard basketball team and was selected in the 10th round of the 1979 NBA draft by the San Antonio Spurs. Instead of trying out for the Spurs\, he attended Oxford University on a Rhodes Scholarship. \nFine earned a law degree from Harvard Law School. After law school\, he worked as an Assistant United States Attorney in Washington D.C. Fine is currently an adjunct professor at Georgetown Law School. \nThis luncheon meeting is being held at the McGlinn Conference Center \nClick here to register
URL:https://wacreading.org/event/the-role-of-the-inspector-general-in-the-battle-for-honest-and-accountable-government-with-glenn-fine/
LOCATION:McGlinn Conference Center\, 460 Saint Bernardine Street\, Reading\, PA\, 19607\, United States
CATEGORIES:Luncheon Meeting
ATTACH;FMTTYPE=image/jpeg:https://wacreading.org/wp-content/uploads/2024/09/glenn-fine-2-374x400-1.jpg
END:VEVENT
END:VCALENDAR