BEGIN:VCALENDAR
VERSION:2.0
PRODID:-//The World Affairs Council of Greater Reading - ECPv6.15.20//NONSGML v1.0//EN
CALSCALE:GREGORIAN
METHOD:PUBLISH
X-WR-CALNAME:The World Affairs Council of Greater Reading
X-ORIGINAL-URL:https://wacreading.org
X-WR-CALDESC:Events for The World Affairs Council of Greater Reading
REFRESH-INTERVAL;VALUE=DURATION:PT1H
X-Robots-Tag:noindex
X-PUBLISHED-TTL:PT1H
BEGIN:VTIMEZONE
TZID:America/New_York
BEGIN:DAYLIGHT
TZOFFSETFROM:-0500
TZOFFSETTO:-0400
TZNAME:EDT
DTSTART:20230312T070000
END:DAYLIGHT
BEGIN:STANDARD
TZOFFSETFROM:-0400
TZOFFSETTO:-0500
TZNAME:EST
DTSTART:20231105T060000
END:STANDARD
BEGIN:DAYLIGHT
TZOFFSETFROM:-0500
TZOFFSETTO:-0400
TZNAME:EDT
DTSTART:20240310T070000
END:DAYLIGHT
BEGIN:STANDARD
TZOFFSETFROM:-0400
TZOFFSETTO:-0500
TZNAME:EST
DTSTART:20241103T060000
END:STANDARD
BEGIN:DAYLIGHT
TZOFFSETFROM:-0500
TZOFFSETTO:-0400
TZNAME:EDT
DTSTART:20250309T070000
END:DAYLIGHT
BEGIN:STANDARD
TZOFFSETFROM:-0400
TZOFFSETTO:-0500
TZNAME:EST
DTSTART:20251102T060000
END:STANDARD
END:VTIMEZONE
BEGIN:VEVENT
DTSTART;TZID=America/New_York:20241211T113000
DTEND;TZID=America/New_York:20241211T133000
DTSTAMP:20260424T173642
CREATED:20240804T231019Z
LAST-MODIFIED:20241211T185854Z
UID:7846-1733916600-1733923800@wacreading.org
SUMMARY:Don’t Give Up on Haiti- There is a Way Forward with Keith Mines
DESCRIPTION:Keith Mines is vice president of the Latin America program at USIP. \nMines joined USIP after a career at the State Department\, where he was most recently director for Andean and Venezuelan affairs. In 32 years of diplomatic and military service\, he has worked on governance and institution building in Central America and Colombia; Middle East peace in Israel and the West Bank; post-conflict stabilization in Haiti\, Iraq and Afghanistan; global financial stability and the environment in Brazil; security sector reform in Hungary; famine relief and tribal reconciliation in Darfur and Somali; and creating a culture of lawfulness as the first director of the Merida Initiative in Mexico City. \nA frequent contributor to publications such as the Foreign Service Journal and Orbis\, Mines has written extensively on post-conflict stabilization\, peacebuilding and negotiations\, and the roots of civil conflict. His book\, “Why Nation Building Matters: Political Consolidation\, Building Security Forces\, and Economic Development in Failed and Fragile States\,” was published by the University of Nebraska Press in 2020. Mines has a bachelor’s in history from Brigham Young University and a master’s in foreign service from Georgetown University. \nThis event is being held at the McGlinn Conference Center on December 11. \nClick here to register for this event now.
URL:https://wacreading.org/event/dont-give-up-on-haiti-there-is-a-way-forward-with-keith-mines/
LOCATION:McGlinn Conference Center\, 460 Saint Bernardine Street\, Reading\, PA\, 19607\, United States
CATEGORIES:Luncheon Meeting
ATTACH;FMTTYPE=image/png:https://wacreading.org/wp-content/uploads/2024/08/Screenshot-2024-08-04-at-7.04.26 PM.png
END:VEVENT
END:VCALENDAR