BEGIN:VCALENDAR
VERSION:2.0
PRODID:-//The World Affairs Council of Greater Reading - ECPv6.15.20//NONSGML v1.0//EN
CALSCALE:GREGORIAN
METHOD:PUBLISH
X-ORIGINAL-URL:https://wacreading.org
X-WR-CALDESC:Events for The World Affairs Council of Greater Reading
REFRESH-INTERVAL;VALUE=DURATION:PT1H
X-Robots-Tag:noindex
X-PUBLISHED-TTL:PT1H
BEGIN:VTIMEZONE
TZID:America/New_York
BEGIN:DAYLIGHT
TZOFFSETFROM:-0500
TZOFFSETTO:-0400
TZNAME:EDT
DTSTART:20230312T070000
END:DAYLIGHT
BEGIN:STANDARD
TZOFFSETFROM:-0400
TZOFFSETTO:-0500
TZNAME:EST
DTSTART:20231105T060000
END:STANDARD
BEGIN:DAYLIGHT
TZOFFSETFROM:-0500
TZOFFSETTO:-0400
TZNAME:EDT
DTSTART:20240310T070000
END:DAYLIGHT
BEGIN:STANDARD
TZOFFSETFROM:-0400
TZOFFSETTO:-0500
TZNAME:EST
DTSTART:20241103T060000
END:STANDARD
BEGIN:DAYLIGHT
TZOFFSETFROM:-0500
TZOFFSETTO:-0400
TZNAME:EDT
DTSTART:20250309T070000
END:DAYLIGHT
BEGIN:STANDARD
TZOFFSETFROM:-0400
TZOFFSETTO:-0500
TZNAME:EST
DTSTART:20251102T060000
END:STANDARD
END:VTIMEZONE
BEGIN:VEVENT
DTSTART;TZID=America/New_York:20241113T113000
DTEND;TZID=America/New_York:20241113T133000
DTSTAMP:20260424T191014
CREATED:20240425T014620Z
LAST-MODIFIED:20241028T215428Z
UID:7750-1731497400-1731504600@wacreading.org
SUMMARY:Globally Adept: How Lifelong Learning Shapes a Better World with Carol Jenkins
DESCRIPTION:Carol Jenkins is the CEO of World Learning Inc.\, which encompasses three distinct branches: The Experiment in International Living; School for International Training\, which includes SIT Study Abroad and SIT Graduate Institute; and the nonprofit global development and exchange unit World Learning. Jenkins also serves as president of the global development and exchange division\, where she oversees programs in more than 30 countries. Jenkins has served in multiple positions at World Learning over more than a decade. She first joined in June 2007 as senior director of international programs after a 16-year career in humanitarian aid and development. She spent seven years at the organization\, including three years as head of its International Development and Exchange. In 2014\, after nearly a year working on business and program development for World Vision in East Africa\, Jenkins returned to World Learning. Under Jenkins’s leadership\, World Learning’s development portfolio has seen revenue increase by 14 percent with continued anticipated growth. She oversaw the merger of World Learning’s three development and exchange offices into one location\, leveraging the assets of more than 100 staff members. She was named CEO in February 2018. Prior to joining World Learning\, Jenkins was director of program development for International Medical Corps\, where she managed a team of technical business development professionals to improve the quality of field programs and expand the coverage to project recipients. She also previously spent 12 years working for World Vision\, including a period during which she was posted in Southern Africa. Jenkins holds a bachelor’s degree in political science from Messiah College in Pennsylvania. She was a fellow at the Luskin School of Public Affairs at University of California\, Los Angeles\, in 2012 and a participant in the Leadership Program at the International Civil Society Center. \nThis luncheon meeting will be held at noon on November 13th at the McGlinn Conference Center. \nClick here to register for this event now.
URL:https://wacreading.org/event/the-power-of-education-to-change-lives-globally-with-carol-jenkins/
LOCATION:McGlinn Conference Center\, 460 Saint Bernardine Street\, Reading\, PA\, 19607\, United States
CATEGORIES:Luncheon Meeting
ATTACH;FMTTYPE=image/jpeg:https://wacreading.org/wp-content/uploads/2024/04/carol-jenkins-e1714230583528.jpg
END:VEVENT
BEGIN:VEVENT
DTSTART;TZID=America/New_York:20241120T120000
DTEND;TZID=America/New_York:20241120T133000
DTSTAMP:20260424T191014
CREATED:20240817T213616Z
LAST-MODIFIED:20241029T213348Z
UID:7850-1732104000-1732109400@wacreading.org
SUMMARY:Bringing Order to Anarchy - Governing the World to Come with Charles Kupchan
DESCRIPTION:Charles Kupchan is a senior fellow at the Council on Foreign Relations (CFR) and professor of international affairs at Georgetown University in the Walsh School of Foreign Service and Department of Government. \nFrom 2014 to 2017\, Kupchan served as special assistant to the president and senior director for European affairs on the staff of the National Security Council (NSC) in the Barack Obama administration. He was also director for European affairs on the NSC during the first Bill Clinton administration.  Before joining the Clinton NSC\, he worked in the U.S. Department of State on the policy planning staff.  Previously\, he was an assistant professor of politics at Princeton University. \nKupchan has served as a visiting scholar at Harvard University’s Center for International Affairs\, Columbia University’s Institute for War and Peace Studies\, the International Institute for Strategic Studies in London\, the Centre d’Étude et de Recherches Internationales in Paris\, and the Institute for International Policy Studies in Tokyo. From 2006 to 2007\, he was the Henry A. Kissinger scholar at the Library of Congress and a fellow at the Woodrow Wilson International Center for Scholars. From 2013 to 2014\, he was a senior fellow at the Transatlantic Academy. Kupchan received his BA from Harvard University and MPhil and DPhil from Oxford University \nLinked below is recent article by Charles Kupchan that he suggests circulating to your members to help shape and inform our conversation.\nhttps://www.foreignaffairs.com/united-states/deep-roots-trumps-isolationism\n  \nThis event will be held at noon on September 20th via Zoom Webinar. \nClick here to register for this event now.
URL:https://wacreading.org/event/bringing-order-to-anarchy-governing-the-world-to-come-with-charles-kupchan/
LOCATION:Virtual Event\, PA\, United States
CATEGORIES:Luncheon Meeting
ATTACH;FMTTYPE=image/png:https://wacreading.org/wp-content/uploads/2024/08/Screenshot-2024-08-17-at-3.53.15 PM.png
END:VEVENT
END:VCALENDAR