BEGIN:VCALENDAR
VERSION:2.0
PRODID:-//The World Affairs Council of Greater Reading - ECPv6.15.20//NONSGML v1.0//EN
CALSCALE:GREGORIAN
METHOD:PUBLISH
X-WR-CALNAME:The World Affairs Council of Greater Reading
X-ORIGINAL-URL:https://wacreading.org
X-WR-CALDESC:Events for The World Affairs Council of Greater Reading
REFRESH-INTERVAL;VALUE=DURATION:PT1H
X-Robots-Tag:noindex
X-PUBLISHED-TTL:PT1H
BEGIN:VTIMEZONE
TZID:America/New_York
BEGIN:DAYLIGHT
TZOFFSETFROM:-0500
TZOFFSETTO:-0400
TZNAME:EDT
DTSTART:20230312T070000
END:DAYLIGHT
BEGIN:STANDARD
TZOFFSETFROM:-0400
TZOFFSETTO:-0500
TZNAME:EST
DTSTART:20231105T060000
END:STANDARD
BEGIN:DAYLIGHT
TZOFFSETFROM:-0500
TZOFFSETTO:-0400
TZNAME:EDT
DTSTART:20240310T070000
END:DAYLIGHT
BEGIN:STANDARD
TZOFFSETFROM:-0400
TZOFFSETTO:-0500
TZNAME:EST
DTSTART:20241103T060000
END:STANDARD
BEGIN:DAYLIGHT
TZOFFSETFROM:-0500
TZOFFSETTO:-0400
TZNAME:EDT
DTSTART:20250309T070000
END:DAYLIGHT
BEGIN:STANDARD
TZOFFSETFROM:-0400
TZOFFSETTO:-0500
TZNAME:EST
DTSTART:20251102T060000
END:STANDARD
END:VTIMEZONE
BEGIN:VEVENT
DTSTART;TZID=America/New_York:20240911T113000
DTEND;TZID=America/New_York:20240911T133000
DTSTAMP:20260424T221908
CREATED:20240423T231530Z
LAST-MODIFIED:20240427T144951Z
UID:7743-1726054200-1726061400@wacreading.org
SUMMARY:Trust in Information in the Age of Artificial Intelligence with Bret Shafer
DESCRIPTION:Bret Schafer is a senior fellow and head of the Alliance for Securing Democracy’s information manipulation team. Bret is the creator and manager of Hamilton 2.0\, an online open-source dashboard tracking the outputs of Russian\, Chinese\, and Iranian state media outlets\, diplomats\, and government officials. As an expert in computational propaganda\, state-backed information operations\, and tech regulation\, he has spoken at conferences around the globe and advised numerous governments and international organizations. His research has appeared in the New York Times\, USA Today\, the Wall Street Journal\, and the Washington Post\, and he has been interviewed on NPR\, MSNBC\, CNN\, Al Jazeera\, and the BBC. Prior to joining GMF\, he spent more than ten years in the television and film industry\, including stints at Cartoon Network and as a freelance writer for Warner Brothers. He also worked in Budapest as a radio host and in Berlin as a semi-professional baseball player in Germany’s Bundesliga. He has a BS in communications with a major in radio/television/film from Northwestern University\, and a master’s in public diplomacy from the University of Southern California\, where he was the editor-in-chief of Public Diplomacy Magazine. \nThis luncheon meeting will be held at noon on September 11th at the McGlinn Conference Center. \nClick here to register for this event now.
URL:https://wacreading.org/event/trust-in-information-in-the-age-of-artificial-intelligence-with-bret-shafer/
LOCATION:McGlinn Conference Center\, 460 Saint Bernardine Street\, Reading\, PA\, 19607\, United States
CATEGORIES:Luncheon Meeting
ATTACH;FMTTYPE=image/jpeg:https://wacreading.org/wp-content/uploads/2024/04/image001.jpg
END:VEVENT
END:VCALENDAR