BEGIN:VCALENDAR
VERSION:2.0
PRODID:-//The World Affairs Council of Greater Reading - ECPv6.15.20//NONSGML v1.0//EN
CALSCALE:GREGORIAN
METHOD:PUBLISH
X-ORIGINAL-URL:https://wacreading.org
X-WR-CALDESC:Events for The World Affairs Council of Greater Reading
REFRESH-INTERVAL;VALUE=DURATION:PT1H
X-Robots-Tag:noindex
X-PUBLISHED-TTL:PT1H
BEGIN:VTIMEZONE
TZID:America/New_York
BEGIN:DAYLIGHT
TZOFFSETFROM:-0500
TZOFFSETTO:-0400
TZNAME:EDT
DTSTART:20160313T070000
END:DAYLIGHT
BEGIN:STANDARD
TZOFFSETFROM:-0400
TZOFFSETTO:-0500
TZNAME:EST
DTSTART:20161106T060000
END:STANDARD
BEGIN:DAYLIGHT
TZOFFSETFROM:-0500
TZOFFSETTO:-0400
TZNAME:EDT
DTSTART:20170312T070000
END:DAYLIGHT
BEGIN:STANDARD
TZOFFSETFROM:-0400
TZOFFSETTO:-0500
TZNAME:EST
DTSTART:20171105T060000
END:STANDARD
BEGIN:DAYLIGHT
TZOFFSETFROM:-0500
TZOFFSETTO:-0400
TZNAME:EDT
DTSTART:20180311T070000
END:DAYLIGHT
BEGIN:STANDARD
TZOFFSETFROM:-0400
TZOFFSETTO:-0500
TZNAME:EST
DTSTART:20181104T060000
END:STANDARD
BEGIN:DAYLIGHT
TZOFFSETFROM:-0500
TZOFFSETTO:-0400
TZNAME:EDT
DTSTART:20190310T070000
END:DAYLIGHT
BEGIN:STANDARD
TZOFFSETFROM:-0400
TZOFFSETTO:-0500
TZNAME:EST
DTSTART:20191103T060000
END:STANDARD
BEGIN:DAYLIGHT
TZOFFSETFROM:-0500
TZOFFSETTO:-0400
TZNAME:EDT
DTSTART:20200308T070000
END:DAYLIGHT
BEGIN:STANDARD
TZOFFSETFROM:-0400
TZOFFSETTO:-0500
TZNAME:EST
DTSTART:20201101T060000
END:STANDARD
END:VTIMEZONE
BEGIN:VEVENT
DTSTART;TZID=America/New_York:20190220T073000
DTEND;TZID=America/New_York:20190220T090000
DTSTAMP:20260424T040003
CREATED:20181026T223616Z
LAST-MODIFIED:20190123T213137Z
UID:4818-1550647800-1550653200@wacreading.org
SUMMARY:Hawk Mt. Sanctuary: A Global View of Natural Resource Conservation with Keith Bildstein
DESCRIPTION:Hawk Mt. Sanctuary: A Global View of Natural Resource Conservation\nKeith Bildstein\n\n\n\nFounded in 1934\, the Hawk Mountain Sanctuary is an internationally recognized center for raptor conservation\, education\, observation\, and research. Located in the beautiful Blue Mountains of northern Berks County\, Pennsylvania\, the sanctuary annually attracts thousands of visitors\, young scientists\, and researchers from across the globe to further their knowledge of birds of prey and partake of the beautiful setting which is Hawk Mountain. \nDr. Keith Bildstein came to the Hawk Mountain Sanctuary in 1992 and retired in 2018 as the Director of the Sarkis Acopian Center for Conservation and Learning. A Ph.D. in zoology\, Dr. Bildstein is the author of more than 150 peer reviewed publications and several books\, including Migrating Raptors of the World: their ecology and conservation (2006). His current research projects include a study of Striated Caracaras\, a long term study of New World Vultures and research on Hooded Vultures in Africa. \n\n To Register: Call (610) 375-7880 or email contactus@wacreading.org\n\n\nCost to attend is $10 for members and non-members.
URL:https://wacreading.org/event/hawk-mt-sanctuary-a-global-view-of-natural-resource-conservation/
LOCATION:Wyomissing Restaurant & Bakery\, 1245 Penn Ave\, Wyomissing\, PA\, 19610\, United States
CATEGORIES:Breakfast Meeting
ATTACH;FMTTYPE=image/jpeg:https://wacreading.org/wp-content/uploads/2018/05/keith-bildsten-1.jpg
END:VEVENT
BEGIN:VEVENT
DTSTART;TZID=America/New_York:20190116T073000
DTEND;TZID=America/New_York:20190116T090000
DTSTAMP:20260424T040003
CREATED:20180527T223458Z
LAST-MODIFIED:20180527T223458Z
UID:4813-1547623800-1547629200@wacreading.org
SUMMARY:Vaccination and Global Health - the State of the Science with Tracey Scheirer
DESCRIPTION:Vaccination and Global Health – the State of the Science\nTracey Scheirer\, MSN\, CMSRN\, CNE\, RN\nTracy Fogarty Scheirer has worked in a variety of nursing settings including in medical/ surgical\, critical care\, community health\, OB/GYN\, and pediatrics since receiving her BS in Nursing from Albright College in 1987.  As a result of her Masters work in community health nursing\, Tracy founded and is the chairperson of the Berks Immunization Coalition\, a vaccine advocacy group of local health professionals\, business professionals\, and community members.  The Coalition has worked for eight years to promote vaccination throughout the lifespan in various community outreach activities.  Tracy has presented locally and nationally on the topic of immunizations at a variety of different venues.  She has been a full time member of the Alvernia University nursing faculty since 2011 and is in the final phase of her PhD dissertation at Widener University.  Her research topic centers on the concepts of moral distress\, moral integrity\, and duty orientation in nursing and nursing education. \n  \nTo Register:\nCall (610) 375-7880 or email contactus@wacreading.org \nCost to attend is $10 for members and non-members.
URL:https://wacreading.org/event/vaccination-and-global-health-the-state-of-the-science/
LOCATION:Wyomissing Restaurant & Bakery\, 1245 Penn Ave\, Wyomissing\, PA\, 19610\, United States
CATEGORIES:Breakfast Meeting
ATTACH;FMTTYPE=image/jpeg:https://wacreading.org/wp-content/uploads/2018/05/8_21_Tracy_Scheirer_Headshot-2-2-1-e1574343154742.jpg
END:VEVENT
BEGIN:VEVENT
DTSTART;TZID=America/New_York:20181121T073000
DTEND;TZID=America/New_York:20181121T090000
DTSTAMP:20260424T040003
CREATED:20180921T191847Z
LAST-MODIFIED:20181027T154207Z
UID:4837-1542785400-1542790800@wacreading.org
SUMMARY:SFS Intec and its International Footprint with Jerry Simcik
DESCRIPTION:Jerry Simcik\nSFS Intec and its International Footprint\nJerry Simcik is the Director-Human Resources for the SFS Group North America. A Berks County native\, he has been with SFS for the past 22 years. The SFS Group is a global market leader for mechanical fastening systems and precision formed components. Based on a focused set of core technologies we serve diversified end markets\, including the automotive\, construction/construction supply\, electrical/electronics\, aerospace and medical components industry. In addition to the development and manufacture of products under the SFS intec\, GESIPA\, Unisteel and Tegra Medical brands\, the SFS Group offers distribution and logistics solutions under the SFS unimarket brand throughout Europe. The SFS Group world HQ is in Heerbrugg\, Switzerland. We have more than 80 sales offices and manufacturing sites in 26 countries in Europe\, North America and Asia. Nearly 9\,500 employees worldwide generated sales of CHF 1.63 billion (USD $1.64billion) in 2017. SFS has thrived and grown in mature markets around the world by employing a common set of corporate principles that apply to every country\, location\, culture and people. These principles guide our business decision making throughout the world\, including here in the US.   To Register: Call (610) 375-7880 or email contactus@wacreading.org Cost to attend: $10 all attendees
URL:https://wacreading.org/event/sfs-intec-and-its-international-footprint/
LOCATION:Wyomissing Restaurant & Bakery\, 1245 Penn Ave\, Wyomissing\, PA\, 19610\, United States
CATEGORIES:Breakfast Meeting
ATTACH;FMTTYPE=image/jpeg:https://wacreading.org/wp-content/uploads/2018/06/Jerry-Simcek-1.jpg
END:VEVENT
BEGIN:VEVENT
DTSTART;TZID=America/New_York:20181024T073000
DTEND;TZID=America/New_York:20181024T090000
DTSTAMP:20260424T040003
CREATED:20181024T191914Z
LAST-MODIFIED:20181024T191914Z
UID:4927-1540366200-1540371600@wacreading.org
SUMMARY:Globalization through Model UN with WAC Scholarship Winner Emma Hopler
DESCRIPTION:Emma is a Senior in high-school at Wyomissing Area Jr/Sr High School. In her sophomore year she was accepted to the All-American Model United Nations team has since traveled to 3 different countries including Hungary\, Poland and China\, with the help and sponsorship of the World Affairs Council. On these trips she represents various countries while debating solutions to issues currently facing the global community. \nTo Register:\nCall (610) 375-7880 or email contactus@wacreading.org \nCost to attend:\n$10 all attendees
URL:https://wacreading.org/event/model-un-with-wac-scholarship-winner-emma-hopper/
LOCATION:McGlinn Conference Center\, 460 Saint Bernardine Street\, Reading\, PA\, 19607\, United States
CATEGORIES:Breakfast Meeting
ATTACH;FMTTYPE=image/jpeg:https://wacreading.org/wp-content/uploads/2018/08/emma-hopler-1-e1574342984314.jpg
END:VEVENT
BEGIN:VEVENT
DTSTART;TZID=America/New_York:20181011T073000
DTEND;TZID=America/New_York:20181011T093000
DTSTAMP:20260424T040003
CREATED:20181011T132826Z
LAST-MODIFIED:20181011T132826Z
UID:4632-1539243000-1539250200@wacreading.org
SUMMARY:How the Untapped Power of Women and Girls Can End World Poverty with Susan Markham
DESCRIPTION:How the Untapped Power of Women and Girls Can End World Poverty\nSusan Markham\nSusan Markham most recently served at the Unites States Agency for International Development (USAID) as the Senior Coordinator for Gender Equality and Women’s Empowerment. In this position\, she advised Agency leadership on gender policy issues\, led cross-sectoral program efforts in resilience\, adolescent girls’ education and energy\, and represented the Agency to the White House and other departments\, governments\, civil society organizations and private partners. Previously\, she led the efforts of the National Democratic Institute (NDI) a non-partisan organization\, to increase women’s political participation globally as voters\, activists\, candidates and officeholders. In this role\, she was especially proud of her work in Afghanistan\, Iraq and Yemen to help women find and use their voices in their countries. \nSusan worked earlier in her career in U.S. politics bringing to life her Master’s thesis that focused on women running for political office. At EMILY’s List\, she ran the Political Opportunity Program (POP) that recruited\, trained and supported women running for office at the state and local office. She also managed the Campaign Corps program that brought young people into the political process to engage them in elections. \nSusan now works and lives in Washington\, DC with her family and two dogs. She’s earned degrees from George Washington University (Master’s of Arts) and THE Ohio State University (Bachelor of Arts\, Political Science and International Studies)\, but looks forward to learning new things every day. \nLocation: \nAlbright College\, McMillan Student Center South Lounge\nWhen you enter the student center\, the room immediately to your right is the South Lounge.\nA registration table will be right outside the room. \nTo Register:\nCall (610) 375-7880 or email contactus@wacreading.org \nCost to attend is $10 for members and non-members.
URL:https://wacreading.org/event/susan-markham/
LOCATION:Albright College\, McMillan Student Center South Lounge\, 13th and Bern Streets\, Reading\, PA\, 19612\, United States
CATEGORIES:Breakfast Meeting
ATTACH;FMTTYPE=image/jpeg:https://wacreading.org/wp-content/uploads/2018/04/susan_markham-1-e1574343265761.jpg
END:VEVENT
BEGIN:VEVENT
DTSTART;TZID=America/New_York:20180919T073000
DTEND;TZID=America/New_York:20180919T090000
DTSTAMP:20260424T040003
CREATED:20180919T192425Z
LAST-MODIFIED:20180919T192425Z
UID:4929-1537342200-1537347600@wacreading.org
SUMMARY:The Continuing Impact of Environmental Issues and Changes in the World Climate with Cathy Curran Meyers & David Osgood
DESCRIPTION:Cathy Curran Myers\, JD\nCathy Curran Myers is a member of the faculty of Alvernia University\, teaching graduate and undergraduate courses in environmental sustainability\, public policy\, conflict resolution\, leadership and law\, and serving as the program coordinator for the MA in Leadership degree. Prior to her appointment at Alvernia\, Ms. Myers was the Executive Director of the Bucknell University Environmental Center for interdisciplinary research\, scholarship and teaching of environmental perspectives and sustainability. Ms. Myer’s career in environmental law and policy spans three decades and includes executive level management in government\, business\, and academia. \nHer government service included serving as Deputy Secretary for Water Management in the Pennsylvania Department of Environmental Protection (PADEP)\, where she shaped the water policy of the commonwealth from 2003-2009. During her tenure Ms. Myers represented Governor Rendell on interstate water resource agencies\, from the Great Lakes to the Chesapeake Bay and Delaware River Basin. In 2003 Ms. Myers had the distinction of leading the Pennsylvania delegation in the international negotiations that culminated in the Great Lakes-St. Lawrence River Basin Water Resources Compact and Sustainable Water Resources Agreement. \nIn addition to 20 years of public service\, Ms. Myers spent a decade practicing environmental law as a partner in a major Philadelphia law firm\, and launched and led their Harrisburg office. \nShe received her BA in Environmental Economics and an MA degree in Environmental Biology from Smith College and her JD from Dickinson School of Law . Ms. Myers is trained as a mediator\, and is the immediate past Chair of the City of Reading Environmental Advisory Council. \nDavid Osgood\nDavid received his PhD in Environmental Science from University of Virginia. His research has focused on natural marsh development on Mid-Atlantic and SE US barrier islands with an emphasis on hydrology\, nutrient dynamics\, and their influence on the developing plant community. His background also includes study of Phragmites and other non-native plant species and their impact on the marsh ecosystem. More recently\, he conducts research on restoration of headwater streams and floodplain wetlands of coastal watersheds of the Mid-Atlantic US. He has traveled regularly throughout Latin America where he teaches and conducts research into conservation of natural resources in a cultural context. He is a full professor at Albright College in Reading Pennsylvania where he serves as director of the environmental science program and teaches classes on issues in environmental science\, principles of ecology\, wetlands ecology\, watershed hydrology\, and Latin America and the environment. \n  \nTo Register:\nCall (610) 375-7880 or email contactus@wacreading.org \nCost to attend:\n$10 all attendees
URL:https://wacreading.org/event/climate-change-with-cathy-curran-meyers/
LOCATION:Wyomissing Restaurant & Bakery\, 1245 Penn Ave\, Wyomissing\, PA\, 19610\, United States
CATEGORIES:Breakfast Meeting
END:VEVENT
BEGIN:VEVENT
DTSTART;TZID=America/New_York:20180620T033000
DTEND;TZID=America/New_York:20180620T043000
DTSTAMP:20260424T040003
CREATED:20180407T131755Z
LAST-MODIFIED:20220919T142630Z
UID:4621-1529465400-1529469000@wacreading.org
SUMMARY:Peter Rye\, President
DESCRIPTION:International Business: Brentwood Industries\nBrentwood began putting down roots in foreign countries nearly 20 years ago starting with Thailand. Today\, we operate in the Czech Republic and India also with a Mexico facility soon to open. Even our US based operations enjoy sales to foreign countries amounting to approximately 30% of the whole\, including over 30 years of selling to China. \nMany of our product relate to infrastructure such as power generation\, water and waste-water processing and storm-water management. These are things that all countries need\, especially countries that are advancing in their desire to live as we do. Our opportunities abroad come from interest in these products. As demand builds in a region over time\, we begin to consider the need to be local. Despite having preeminent products in our niches\, we will always encounter both indigenous competition and competition from other foreign companies\, whether European or Chinese\, that results in price pressure. Often\, we choose to be a pioneer in establishing local manufacturing and setting customer expectations on performance and value rather than wait to become a “me too”. This requires a long term view and patience. \nBrentwood is more comfortable in foreign lands and cultures than many US companies. My parent\, sister and I emigrated from Denmark. Since Denmark is so small\, its economic development is dependent on commerce with foreign countries. Operating abroad is natural. Brentwood has become a magnet for foreign born workers because we need their language skills\, cultural understanding and openness. Also\, emigrating is an inherently entrepreneurial act. Entrepreneurship is something we value.
URL:https://wacreading.org/event/peter-rye-president/
LOCATION:Wyomissing Restaurant & Bakery\, 1245 Penn Ave\, Wyomissing\, PA\, 19610\, United States
CATEGORIES:Breakfast Meeting
ATTACH;FMTTYPE=image/png:https://wacreading.org/wp-content/uploads/2018/03/events_client5-1.png
END:VEVENT
BEGIN:VEVENT
DTSTART;TZID=America/New_York:20180516T040000
DTEND;TZID=America/New_York:20180516T130000
DTSTAMP:20260424T040003
CREATED:20180407T131121Z
LAST-MODIFIED:20180407T131121Z
UID:4616-1526443200-1526475600@wacreading.org
SUMMARY:Professor Alexis Jardine
DESCRIPTION:Similarities and Differences Between PA Dutch and Latino Cultures\nAlexis Jardine is a Professor\, Coordinator of the Spanish Department\, and Co-Chair of the Multicultural Awareness Initiative at Reading Area Community College.  Alexis attended the Andres Bello University in Venezuela earning a bachelor’s degree in Education.  Prior to coming to the US\, Alexis worked for the Embassy of Japan and the Embassy of Canada.  She has earned four Masters Degrees in Education and studied and lived in Barcelona Spain.  She is the author of No Barriers! College Success Strategies for Hispanic Students\, a text book published by Kendall/Hunt in 2003. Alexis specializes in the development of Spanish language curriculum and cultural training for business executives\, hospitals\, and embassy staff.  She enjoys traveling to South American and Europe.
URL:https://wacreading.org/event/professor-alexis-jardine/
LOCATION:Wyomissing Restaurant & Bakery\, 1245 Penn Ave\, Wyomissing\, PA\, 19610\, United States
CATEGORIES:Breakfast Meeting
ATTACH;FMTTYPE=image/png:https://wacreading.org/wp-content/uploads/2018/03/events_client4-1.png
END:VEVENT
BEGIN:VEVENT
DTSTART;TZID=America/New_York:20180425T033000
DTEND;TZID=America/New_York:20180425T130000
DTSTAMP:20260424T040003
CREATED:20180407T123026Z
LAST-MODIFIED:20180407T123026Z
UID:4609-1524627000-1524661200@wacreading.org
SUMMARY:Dr. Stepanka Magstadt
DESCRIPTION:Human Trafficking\, A Global Problem\, A Local Solution\nA migration historian educated in the U.K.\, the United States\, and the Czech Republic\, she is currently teaching courses dealing with Global Human Trafficking\, Sex Trafficking and Domestic Violence she developed. Stepanka is the Director of the Center for the Study of Human Trafficking in South-Central Pennsylvania. Her research focuses on identifying vulnerabilities to Sex Trafficking and Domestic Violence.
URL:https://wacreading.org/event/dr-stepanka-magstadt/
LOCATION:Wyomissing Restaurant & Bakery\, 1245 Penn Ave\, Wyomissing\, PA\, 19610\, United States
CATEGORIES:Breakfast Meeting
ATTACH;FMTTYPE=image/jpeg:https://wacreading.org/wp-content/uploads/2018/04/event-3-1.jpg
END:VEVENT
BEGIN:VEVENT
DTSTART;TZID=America/New_York:20180221T023000
DTEND;TZID=America/New_York:20180221T033000
DTSTAMP:20260424T040003
CREATED:20180407T135606Z
LAST-MODIFIED:20220919T142728Z
UID:4640-1519180200-1519183800@wacreading.org
SUMMARY:Dr. Solomon Lausch
DESCRIPTION:The Peace Corps: JFK to Today\nDr. Lausch will review the history of the Peace Corps since its establishment in 1961 by executive order of President John F. Kennedy.  A panel of returned Peace Corps volunteers\, Solomon Lausch\, Carla and Michael Mannix\, and Alexa Tyler Bordner\, representing respectively the first decade\, the middle years\, and the recent years of Peace Corps activity around the world will present their perspectives and anecdotal accounts of their years of service.  The program will conclude with an engaging Question and Answer session with the audience. \nDr. Lausch is well known to all of us as a member of the board of directors of our World Affairs Council\, as executive director of Berks Business Education Coalition (BBEC) and as past superintendant of the Schuylkill Valley School District. \nDr. Lausch began his professional career as a Peace Corps Volunteer in Micronesia\, teaching English as a second language.
URL:https://wacreading.org/event/dr-solomon-lausch/
LOCATION:Wyomissing Restaurant & Bakery\, 1245 Penn Ave\, Wyomissing\, PA\, 19610\, United States
CATEGORIES:Breakfast Meeting
ATTACH;FMTTYPE=image/jpeg:https://wacreading.org/wp-content/uploads/2018/04/event-7-1-e1574343256471.jpg
END:VEVENT
BEGIN:VEVENT
DTSTART;TZID=America/New_York:20180218T190000
DTEND;TZID=America/New_York:20180218T190000
DTSTAMP:20260424T040003
CREATED:20180219T150239Z
LAST-MODIFIED:20180219T150239Z
UID:4647-1518980400-1518980400@wacreading.org
SUMMARY:Judge Jeffery Sprecher
DESCRIPTION:Sentencing Reform & Prison Overcrowding\nJudge Sprecher will be discussing what improvements have occurred in the six years since the publication of his book\, Justice or Just This?. This will be an update on a presentation he delivered to the World Affairs Council several years ago. \nJudge Sprecher presides on the Berks County Court of Common Pleas since 1991.
URL:https://wacreading.org/event/judge-jeffery-sprecher/
LOCATION:PA
CATEGORIES:Breakfast Meeting
ATTACH;FMTTYPE=image/jpeg:https://wacreading.org/wp-content/uploads/2018/04/pre-event-4-1-e1574343246717.jpg
END:VEVENT
BEGIN:VEVENT
DTSTART;TZID=America/New_York:20180212T190000
DTEND;TZID=America/New_York:20180212T190000
DTSTAMP:20260424T040003
CREATED:20180407T135909Z
LAST-MODIFIED:20180407T135909Z
UID:4644-1518462000-1518462000@wacreading.org
SUMMARY:Dr. Nina Kollars
DESCRIPTION:War and Technology\nSponsored by Sam Dalal\nDr. Nina Kollars is Assistant Professor of Government at Franklin & Marshall College. As a graduate of Ohio State University’s Department of Political Science\, Kollars’ most recently published research has been featured in Security Studies\, Journal of Strategic Studies\, & Survival. Central themes in her work are innovation\, adaptation\, and organizational design. She is currently working on a book manuscript that focuses on the efforts of war practitioners and organizational responses to their insights and creativity. She is a non-resident fellow at the Modern War Institute at West Point Military Academy\, a member of the Committee for the Analysis of Military Operations and Strategy\, an editorial board member of the Special Operations Journal and a committed professor to her students. Before entering academia\, Kollars completed analyses for the Federal Research Division of the Library of Congress and the World Bank.
URL:https://wacreading.org/event/dr-nina-kollars/
LOCATION:PA
CATEGORIES:Breakfast Meeting
ATTACH;FMTTYPE=image/jpeg:https://wacreading.org/wp-content/uploads/2018/04/pre_event3-1.jpg
END:VEVENT
BEGIN:VEVENT
DTSTART;TZID=America/New_York:20171017T200000
DTEND;TZID=America/New_York:20171017T200000
DTSTAMP:20260424T040003
CREATED:20180407T143335Z
LAST-MODIFIED:20180407T143335Z
UID:4662-1508270400-1508270400@wacreading.org
SUMMARY:Dr. Bonnie Rohde
DESCRIPTION:NAFTA and Asia Trade\nDr. Bonnie Rohde is a business instructor at Albright College. She is a Business Educator & Data Scientist in business intelligence\, operations management\, entrepreneurship and globalization. Rohde has more than 20 years experience in business planning\, information systems and telecommunications prior to joining Albright in 2006.
URL:https://wacreading.org/event/dr-bonnie-rohde/
LOCATION:PA
CATEGORIES:Breakfast Meeting
ATTACH;FMTTYPE=image/jpeg:https://wacreading.org/wp-content/uploads/2018/04/Rhode-with-CeeLink-2-1.jpg
END:VEVENT
BEGIN:VEVENT
DTSTART;TZID=America/New_York:20170919T200000
DTEND;TZID=America/New_York:20170919T200000
DTSTAMP:20260424T040003
CREATED:20180407T143918Z
LAST-MODIFIED:20180407T143918Z
UID:4668-1505851200-1505851200@wacreading.org
SUMMARY:Dr. Randall Newnham
DESCRIPTION:Brexit Questions\nDr.Randall Newnham is an Associate Professor of Political Science atPenn State Berks. His research focuses on the role of the economic aid and sanctions as foreign policy tools. Recent articles include Coalition of the Bribed and Bullied?  US Economic Linkage and the Iraq War Coalition and Nukes for Sale Cheap? Purchasing Peace with North Korea (both in International Studies Perspectives\, 2004 and 2008). He has a special interest in Germany\, Eastern Europe\, and the former Soviet Union. This is seen in his book\, Deutsche Mark Diplomacy: Positive Economic Sanctions in German-Russian Relations (PSU Press\, 2002)\, and several recent articles on German\, Polish\, and Russian foreign policy. Dr. Newnham teaches introductory courses in International Relations\, Comparative Politics\, and American Government. He also teaches advanced courses on “The Rise and Fall of the Soviet Union” and International Political Economy as part of PSU Berks’ four-year Global Studies degree.
URL:https://wacreading.org/event/dr-randall-newnham/
LOCATION:PA
CATEGORIES:Breakfast Meeting
ATTACH;FMTTYPE=image/jpeg:https://wacreading.org/wp-content/uploads/2018/04/Newnham-1.jpeg
END:VEVENT
END:VCALENDAR