BEGIN:VCALENDAR
VERSION:2.0
PRODID:-//The World Affairs Council of Greater Reading - ECPv6.15.20//NONSGML v1.0//EN
CALSCALE:GREGORIAN
METHOD:PUBLISH
X-WR-CALNAME:The World Affairs Council of Greater Reading
X-ORIGINAL-URL:https://wacreading.org
X-WR-CALDESC:Events for The World Affairs Council of Greater Reading
REFRESH-INTERVAL;VALUE=DURATION:PT1H
X-Robots-Tag:noindex
X-PUBLISHED-TTL:PT1H
BEGIN:VTIMEZONE
TZID:America/New_York
BEGIN:DAYLIGHT
TZOFFSETFROM:-0500
TZOFFSETTO:-0400
TZNAME:EDT
DTSTART:20190310T070000
END:DAYLIGHT
BEGIN:STANDARD
TZOFFSETFROM:-0400
TZOFFSETTO:-0500
TZNAME:EST
DTSTART:20191103T060000
END:STANDARD
BEGIN:DAYLIGHT
TZOFFSETFROM:-0500
TZOFFSETTO:-0400
TZNAME:EDT
DTSTART:20200308T070000
END:DAYLIGHT
BEGIN:STANDARD
TZOFFSETFROM:-0400
TZOFFSETTO:-0500
TZNAME:EST
DTSTART:20201101T060000
END:STANDARD
BEGIN:DAYLIGHT
TZOFFSETFROM:-0500
TZOFFSETTO:-0400
TZNAME:EDT
DTSTART:20210314T070000
END:DAYLIGHT
BEGIN:STANDARD
TZOFFSETFROM:-0400
TZOFFSETTO:-0500
TZNAME:EST
DTSTART:20211107T060000
END:STANDARD
BEGIN:DAYLIGHT
TZOFFSETFROM:-0500
TZOFFSETTO:-0400
TZNAME:EDT
DTSTART:20220313T070000
END:DAYLIGHT
BEGIN:STANDARD
TZOFFSETFROM:-0400
TZOFFSETTO:-0500
TZNAME:EST
DTSTART:20221106T060000
END:STANDARD
BEGIN:DAYLIGHT
TZOFFSETFROM:-0500
TZOFFSETTO:-0400
TZNAME:EDT
DTSTART:20230312T070000
END:DAYLIGHT
BEGIN:STANDARD
TZOFFSETFROM:-0400
TZOFFSETTO:-0500
TZNAME:EST
DTSTART:20231105T060000
END:STANDARD
BEGIN:DAYLIGHT
TZOFFSETFROM:-0500
TZOFFSETTO:-0400
TZNAME:EDT
DTSTART:20240310T070000
END:DAYLIGHT
BEGIN:STANDARD
TZOFFSETFROM:-0400
TZOFFSETTO:-0500
TZNAME:EST
DTSTART:20241103T060000
END:STANDARD
BEGIN:DAYLIGHT
TZOFFSETFROM:-0500
TZOFFSETTO:-0400
TZNAME:EDT
DTSTART:20250309T070000
END:DAYLIGHT
BEGIN:STANDARD
TZOFFSETFROM:-0400
TZOFFSETTO:-0500
TZNAME:EST
DTSTART:20251102T060000
END:STANDARD
BEGIN:DAYLIGHT
TZOFFSETFROM:-0500
TZOFFSETTO:-0400
TZNAME:EDT
DTSTART:20260308T070000
END:DAYLIGHT
BEGIN:STANDARD
TZOFFSETFROM:-0400
TZOFFSETTO:-0500
TZNAME:EST
DTSTART:20261101T060000
END:STANDARD
END:VTIMEZONE
BEGIN:VEVENT
DTSTART;TZID=America/New_York:20250410T083000
DTEND;TZID=America/New_York:20250410T160000
DTSTAMP:20260424T024002
CREATED:20250221T203213Z
LAST-MODIFIED:20250223T134159Z
UID:8138-1744273800-1744300800@wacreading.org
SUMMARY:WAC Annual Excursion 2025: The U.S. Army War College and Dickinson College
DESCRIPTION:The World Affairs Council of Greater Reading presents: A Tale of Two Colleges. The U.S. Army War College and Dickinson College. An in-depth tour of The War College. \nAPRIL 10\, 2025\, ITINERARY8:30 a.m.: Tour bus departs from Walmart\, Wyomissing.10: a.m.: Arrive at Dickerson.11:30 a.m.: Depart for luncheon at Fiddler’s Bar & Grill.1:30 p.m.: Depart Fiddler’s for the War College.4:00 p.m.: Depart War College. \nCostMembers: $85.00Non-members: $100.00Ambassadors: $75.00 Spouse at member’s rateStudents: $45.00Includes transportation\, breakfast\, luncheon\, programs\, snacks. \nReceipt of payment confirms your reservation.Seating is limited. Reservations required by March 31\, 2025. \nPlease send checks to:WAC of Greater ReadingP.O. Box 6301Reading\, PA 19610610-375-7880 \n			\n			\n				\n				\n				\n				\n			\n				\n				\n				\n				\n				\n				\n				\n				\n				\n				\n				Dickinson College\n			\n				\n				\n				\n				\n				10:00 a.m. – 11:30 p.m. \nAndrew T. WolffDickinson Collegewolffan@dickinson.edu \nDr. Andrew Wolff is an associate professor of Political Science and International Studies at Dickinson College in Carlisle\, Pennsylvania. He holds a bachelor’s degree in Politics and European History from Washington and Lee University (1995)\, a master’s degree in European Studies from Johns Hopkins University’s School of Advanced International Studies (2003)\, and a doctorate in International Relations from Johns Hopkins University’s SAIS (2010). \nDr. Wolff has been a Fulbright NATO Security Studies scholar hosted by the College of Europe in Bruges\, Belgium (Fall 2021) and an associate fellow at Johns Hopkins University SAIS – Europe in Bologna\, Italy (2020-2021). From 2018 to 2020\, he served as the Dickinson College Director of European Studies at the K. Robert Nilsson Center for European Studies in Bologna\, Italy. Prior to pursuing graduate degrees\, Dr. Wolff worked as a legal staff assistant for Senator Paul D. Coverdell (Georgia) in the United States Senate (1996-1997)\, and he taught high school English in Prague\, Czech Republic (1997-1999). \nDr. Wolff’s primary research interests are NATO enlargement\, European security issues\, transatlantic relations\, geopolitics\, and American foreign policy. He has published articles in International Affairs\, Contemporary Security Policy\, Journal of Contemporary European Studies\, and Journal of Transatlantic Studies. \nAbout Dickinson CollegeFounded in 1783 by Benjamin RushSlogan: Freedom is made safe through character and learning Enrollment: 2\,134Vision: To be a leader in global education \n			\n			\n				\n				\n				\n				\n				\n				\n				\n				\n				\n				The U.S. Army War College\n			\n				\n				\n				\n				\n				1:30 p.m. — 4:00 p.m. \nThe US Army War College educates and develops leaders for service at the strategic level while advancing knowledge in the global application of Land power. \nThe purpose of US Army War College at this time in our Nation’s history is to produce graduates from all our courses who are skilled critical thinkers and complex problem solvers in the global application of Landpower.Concurrently\, it is our duty to the Army to also act as a “Think Factory “for Commanders and Civilian Leaders at the strategic level worldwide and routinely engage in discourse and debate on ground forces’ role in achieving national security objectives. We will accomplish this dual purpose along the following lines of effort: \n• Provide high quality Professional Military Education at the strategic level that further develops accomplished officers and civilians\, both graduates and faculty\, who depart our institution armed with the right balance of theory\, history\, practice\, and communication skills to clearly articulate options for solutions to complex strategic problems and immediately be of value to any organization. \n• Aggressively Conduct Research\, Publish\, Engage in Discourse\, and Wargame with the entire faculty\, staff\, students and fellows; generate ideas and test concepts as the Army’s intellectual broken field runner for the application of Land power at the strategic level. \n• Conduct Strategic Leader Development through agile\, constantly reviewed and updated courses of instruction and other products that advance strategic leadership skills and senior leader abilities in the Profession of Arms. \n• Attract\, Recruit\, and Retain a high quality faculty and staff.
URL:https://wacreading.org/event/excursion-2025/
CATEGORIES:Annual Excursion
END:VEVENT
BEGIN:VEVENT
DTSTART;TZID=America/New_York:20200422T080000
DTEND;TZID=America/New_York:20200422T080000
DTSTAMP:20260424T024002
CREATED:20200217T201602Z
LAST-MODIFIED:20200313T235418Z
UID:5930-1587542400-1587542400@wacreading.org
SUMMARY:CANCELLED - Excursion 2020
DESCRIPTION:CANCELLED DUE TO CORONAVIRUS PANDEMIC
URL:https://wacreading.org/event/excursion-2020/
LOCATION:PA\, United States
CATEGORIES:Annual Excursion
ATTACH;FMTTYPE=image/png:https://wacreading.org/wp-content/uploads/2020/02/Screen-Shot-2020-02-17-at-2.48.40-PM-e1582845480451.png
END:VEVENT
END:VCALENDAR