BEGIN:VCALENDAR
VERSION:2.0
PRODID:-//The World Affairs Council of Greater Reading - ECPv6.15.20//NONSGML v1.0//EN
CALSCALE:GREGORIAN
METHOD:PUBLISH
X-WR-CALNAME:The World Affairs Council of Greater Reading
X-ORIGINAL-URL:https://wacreading.org
X-WR-CALDESC:Events for The World Affairs Council of Greater Reading
REFRESH-INTERVAL;VALUE=DURATION:PT1H
X-Robots-Tag:noindex
X-PUBLISHED-TTL:PT1H
BEGIN:VTIMEZONE
TZID:America/New_York
BEGIN:DAYLIGHT
TZOFFSETFROM:-0500
TZOFFSETTO:-0400
TZNAME:EDT
DTSTART:20250309T070000
END:DAYLIGHT
BEGIN:STANDARD
TZOFFSETFROM:-0400
TZOFFSETTO:-0500
TZNAME:EST
DTSTART:20251102T060000
END:STANDARD
BEGIN:DAYLIGHT
TZOFFSETFROM:-0500
TZOFFSETTO:-0400
TZNAME:EDT
DTSTART:20260308T070000
END:DAYLIGHT
BEGIN:STANDARD
TZOFFSETFROM:-0400
TZOFFSETTO:-0500
TZNAME:EST
DTSTART:20261101T060000
END:STANDARD
BEGIN:DAYLIGHT
TZOFFSETFROM:-0500
TZOFFSETTO:-0400
TZNAME:EDT
DTSTART:20270314T070000
END:DAYLIGHT
BEGIN:STANDARD
TZOFFSETFROM:-0400
TZOFFSETTO:-0500
TZNAME:EST
DTSTART:20271107T060000
END:STANDARD
END:VTIMEZONE
BEGIN:VEVENT
DTSTART;TZID=America/New_York:20260513T113000
DTEND;TZID=America/New_York:20260513T130000
DTSTAMP:20260423T083034
CREATED:20250820T183033Z
LAST-MODIFIED:20260404T135905Z
UID:8363-1778671800-1778677200@wacreading.org
SUMMARY:Middle East Tensions with Michael O'Hanlon
DESCRIPTION:Michael O’Hanlon is a senior fellow\, and director of research\, in Foreign Policy at the Brookings Institution\, where he specializes in U.S. defense strategy\, the use of military force\, and American national security policy. He co-directs the Security and Strategy Team\, the Defense Industrial Base working group\, and the Africa Security Initiative within the Foreign Policy program\, as well. He is an adjunct professor at Columbia\, Georgetown\, and Syracuse universities\, and a member of the International Institute for Strategic Studies. O’Hanlon was also a member of the External Advisory Board at the Central Intelligence Agency from 2011-2012. \nO’Hanlon’s latest books include: The Senkaku Paradox: Risking Great Power War over Limited Stakes (Brookings\, 2019); Beyond NATO: A New Security Architecture for Eastern Europe (Brookings\, 2017); The Future of Land Warfare (Brookings\, 2015); and Strategic Reassurance and Resolve: U.S.-China Relations in the 21st Century (with Jim Steinberg\, Princeton University Press\, 2014). Previously\, he wrote Bending History: Barack Obama’s Foreign Policy (with Martin Indyk and Kenneth Lieberthal\, Brookings\, 2012); A Skeptic’s Case for Nuclear Disarmament (Brookings\, 2010); The Science of War (Princeton University Press\, 2009); Crisis on the Korean Peninsula (with Mike Mochizuki\, McGraw-Hill\, 2003); Winning Ugly: NATO’s War to Save Kosovo (with Ivo Daalder\, Brookings\, 2000); and Technological Change and the Future of Warfare (Brookings\, 2000)\, among others. \nO’Hanlon has written several hundred op-eds in newspapers including The Washington Post\, The New York Times\, The Los Angeles Times\, The Washington Times\, The Financial Times\, The Wall Street Journal\, The Japan Times\, USA Today\, and Pakistan’s Dawn paper. His articles have appeared in Foreign Affairs\, The National Interest\, Survival\, Washington Quarterly\, Joint Forces Quarterly\, and International Security\, among other publications. O’Hanlon has appeared on television or spoken on the radio some 4\,000 times since eptember 11\, 2001. \nO’Hanlon was an analyst at the Congressional Budget Office from 1989-1994. He also worked previously at the Institute for Defense Analyses. His Ph.D. from Princeton is in public and international affairs; his bachelor’s and master’s degrees\, also from Princeton\, are in the physical sciences. He served as a Peace Corps volunteer in Congo/Kinshasa (the former Zaire) from 1982-1984\, where he taught college and high school physics in French. Earlier\, he worked on a dairy farm in Upstate New York\, where he grew up\, and attempted (unsuccessfully) with a team of Princeton experimental physicists in the “Gravity Group” to disprove Einstein’s General Theory of Relativity. \nClick here to attend live \nClick here to register for this webinar now
URL:https://wacreading.org/event/middle-east-tensions-with-michael-ohanlon/
LOCATION:McGlinn Conference Center\, 460 Saint Bernardine Street\, Reading\, PA\, 19607\, United States
CATEGORIES:Luncheon Meeting
ATTACH;FMTTYPE=image/png:https://wacreading.org/wp-content/uploads/2024/08/Screenshot-2024-08-30-at-1.05.07 PM.png
END:VEVENT
BEGIN:VEVENT
DTSTART;TZID=America/New_York:20260610T163000
DTEND;TZID=America/New_York:20260610T180000
DTSTAMP:20260423T083034
CREATED:20260323T212322Z
LAST-MODIFIED:20260422T124512Z
UID:8548-1781109000-1781114400@wacreading.org
SUMMARY:The Pennsylvania German and the American Revolution
DESCRIPTION:William W. Donner received his PhD in anthropology from the University of Pennsylvania. He is currently the Freyberger Professor of Pennsylvania German Studies at Kutztown University. He has been involved with the Pennsylvania German Cultural Heritage Center\, The Kutztown Folk Festival\, and other Pennsylvania German organizations for over 25 years. He has published about Pennsylvania Germans in numerous journals including\, Pennsylvania History\, Pennsylvania Magazine of Biography and History\, Yearbook of German American Studies and Sociological Inquiry\, among other journals. He has published a book about Pennsylvania German expressive culture\, Serious Nonsense: Groundhog Lodges\, Versammlinge\, and Pennsylvania German Heritage (2016\, Penn State Press). \n  \n			\n			\n				\n				\n				\n				\n			\n				\n				\n				\n				\n				\n				\n				\n				\n				\n				\n				Patrick Donmoyer is Director of the Pennsylvania German Cultural Heritage Center at Kutztown University\, a folklife museum and research center on the Kutztown Campus. An avid speaker of Pennsylvania Dutch\, Patrick’s research blends the study of folk art\, vernacular language\, rural architecture\, seasonal customs\, and healing traditions. In 2022\, Patrick received the American Folklore Society’s Archie Green Public Folklore Advocacy Award for significant contributions impacting folk traditions and their communities in the United States. Patrick is the author of numerous articles\, and four books\, including Hex Signs: Myth and Meaning in Pennsylvania Dutch Barn Stars (2013)\, Powwowing in Pennsylvania: Braucherei and the Ritual of Everyday Life (2018)\, and Painter of the Stars: The Life and Work of Milton J. Hill (2021). \n			\n			\n				\n				\n				\n				\n				\n				\n				\n				\n				\n				\n			\n			\n				\n				\n				\n				\n			\n				\n				\n				\n				\n				\n				\n				\n				\n				\n				\n				The all-you-can-eat Buffet will feature German specialties from the Reading Liederkranz German Singing & Sports Society Kitchen\, including a special dessert.  Vegetarian plate available with advance notice.  A cash bar will be available. \n			\n				Click here to register now!\n			\n				\n				\n				\n				\n				Sign-in and payment starts at 4pmBuffet Opens at 4:30 pmPresentation starts at 5:15 pm
URL:https://wacreading.org/event/the-pennsylvania-german-during-the-american-revolution/
LOCATION:Reading Liederkranz\, 143 Spook Lane\, Reading\, PA\, 19606\, United States
END:VEVENT
END:VCALENDAR